BEGIN:VCALENDAR
VERSION:2.0
PRODID:-//Grimpe &amp; Glisse - ECPv6.15.20//NONSGML v1.0//EN
CALSCALE:GREGORIAN
METHOD:PUBLISH
X-ORIGINAL-URL:https://grimpeglisse.org
X-WR-CALDESC:Évènements pour Grimpe &amp; Glisse
REFRESH-INTERVAL;VALUE=DURATION:PT1H
X-Robots-Tag:noindex
X-PUBLISHED-TTL:PT1H
BEGIN:VTIMEZONE
TZID:Europe/Paris
BEGIN:DAYLIGHT
TZOFFSETFROM:+0100
TZOFFSETTO:+0200
TZNAME:CEST
DTSTART:20250330T010000
END:DAYLIGHT
BEGIN:STANDARD
TZOFFSETFROM:+0200
TZOFFSETTO:+0100
TZNAME:CET
DTSTART:20251026T010000
END:STANDARD
BEGIN:DAYLIGHT
TZOFFSETFROM:+0100
TZOFFSETTO:+0200
TZNAME:CEST
DTSTART:20260329T010000
END:DAYLIGHT
BEGIN:STANDARD
TZOFFSETFROM:+0200
TZOFFSETTO:+0100
TZNAME:CET
DTSTART:20261025T010000
END:STANDARD
BEGIN:DAYLIGHT
TZOFFSETFROM:+0100
TZOFFSETTO:+0200
TZNAME:CEST
DTSTART:20270328T010000
END:DAYLIGHT
BEGIN:STANDARD
TZOFFSETFROM:+0200
TZOFFSETTO:+0100
TZNAME:CET
DTSTART:20271031T010000
END:STANDARD
END:VTIMEZONE
BEGIN:VEVENT
DTSTART;VALUE=DATE:20260110
DTEND;VALUE=DATE:20260118
DTSTAMP:20260421T173037
CREATED:20250921T110659Z
LAST-MODIFIED:20250921T133115Z
UID:11744-1768003200-1768694399@grimpeglisse.org
SUMMARY:Semaine snowboard à Avoriaz
DESCRIPTION:[vc_row row_height_percent= »50″ override_padding= »yes » h_padding= »2″ top_padding= »5″ bottom_padding= »5″ back_color= »color-wayh » back_image= »11758″ overlay_color= »color-nhtu » overlay_alpha= »80″ gutter_size= »3″ column_width_percent= »100″ shift_y= »0″ z_index= »0″ content_parallax= »0″ uncode_shortcode_id= »187695″ back_color_type= »uncode-palette » overlay_color_type= »uncode-palette »][vc_column column_width_use_pixel= »yes » position_vertical= »middle » align_horizontal= »align_center » gutter_size= »3″ style= »dark » overlay_alpha= »50″ shift_x= »0″ shift_y= »0″ shift_y_down= »0″ z_index= »0″ medium_width= »0″ mobile_width= »0″ width= »1/1″ column_width_pixel= »900″][vc_custom_heading text_color= »accent » heading_semantic= »h6″ text_size= »h6″ text_transform= »uppercase » uncode_shortcode_id= »850440″ text_color_type= »uncode-palette »]Snowboard domaine skiable[/vc_custom_heading][vc_custom_heading heading_semantic= »h3″ text_size= »h1″ uncode_shortcode_id= »138137″]Une semaine de snowboard dans le domaine skiable d’Avoriaz[/vc_custom_heading][vc_row_inner row_inner_height_percent= »0″ overlay_alpha= »50″ equal_height= »yes » gutter_size= »0″ shift_y= »0″ z_index= »0″ uncode_shortcode_id= »325209″][vc_column_inner width= »1/4″][/vc_column_inner][vc_column_inner column_width_percent= »100″ gutter_size= »2″ override_padding= »yes » column_padding= »0″ style= »dark » overlay_alpha= »50″ shift_x= »0″ shift_y= »0″ shift_y_down= »0″ z_index= »0″ medium_width= »0″ mobile_width= »0″ width= »1/2″ uncode_shortcode_id= »799260″][vc_single_image media= »10157″ media_width_percent= »75″ alignment= »center » uncode_shortcode_id= »621857″][/vc_column_inner][vc_column_inner width= »1/4″][/vc_column_inner][/vc_row_inner][/vc_column][/vc_row][vc_row][vc_column width= »1/1″][vc_column_text text_lead= »yes » uncode_shortcode_id= »413804″] \nUne semaine de snowboard dans le domaine skiable d’Avoriaz – Du 10 au 17 janvier 2026\nPrêts à dévaler les pistes et à commencer l’année sur les fesses en beauté ? L’association vous embarque pour une semaine de snowboard inoubliable au cœur d’Avoriaz\, du samedi 10 au samedi 17 janvier 2026. Que vous soyez confirmé·e ou débutant·e\, ce séjour est fait pour vous ! Possibilité de s’inscrire à des formations ESF (c’est requis pour les débutant·e·s). Nous serons dans un appartement pour 8 personnes\, chaleureux et fraîchement rénové\, avec une vue dégagée sur les montagnes. Les pistes sont accessibles à pied. \nUne semaine de sport\, de partage et de bons souvenirs en perspective. On vous attend 🏂[/vc_column_text][/vc_column][/vc_row][vc_row unlock_row_content= »yes » row_height_percent= »0″ override_padding= »yes » h_padding= »3″ top_padding= »2″ bottom_padding= »0″ overlay_alpha= »50″ gutter_size= »3″ column_width_percent= »100″ shift_y= »0″ z_index= »0″ content_parallax= »0″ uncode_shortcode_id= »164146″][vc_column column_width_percent= »100″ gutter_size= »3″ override_padding= »yes » column_padding= »5″ style= »light » back_image= »10266″ overlay_color= »color-gyho » overlay_alpha= »85″ radius= »hg » shift_x= »0″ shift_y= »0″ shift_y_down= »0″ z_index= »0″ medium_width= »0″ mobile_width= »0″ width= »1/1″ uncode_shortcode_id= »217126″ overlay_color_type= »uncode-palette »][vc_row_inner row_inner_height_percent= »0″ overlay_alpha= »50″ gutter_size= »2″ shift_y= »0″ z_index= »0″ limit_content= » » uncode_shortcode_id= »209343″][vc_column_inner column_width_percent= »100″ gutter_size= »4″ style= »light » overlay_alpha= »50″ shift_x= »0″ shift_y= »0″ shift_y_down= »0″ z_index= »0″ medium_width= »0″ mobile_width= »0″ width= »8/12″ uncode_shortcode_id= »187603″][vc_custom_heading uncode_shortcode_id= »193365″]Niveau technique et physique[/vc_custom_heading][/vc_column_inner][vc_column_inner column_width_percent= »100″ position_vertical= »justify » gutter_size= »3″ overlay_alpha= »50″ shift_x= »0″ shift_y= »0″ shift_y_down= »0″ z_index= »0″ medium_width= »0″ mobile_width= »0″ width= »4/12″ uncode_shortcode_id= »138846″][/vc_column_inner][/vc_row_inner][vc_column_text uncode_shortcode_id= »168351″]Endurance : ❤️+ – Technicité : ⛰️+\n[/vc_column_text][/vc_column][/vc_row][vc_row unlock_row_content= »yes » row_height_percent= »100″ override_padding= »yes » h_padding= »2″ top_padding= »2″ bottom_padding= »2″ overlay_alpha= »50″ gutter_size= »2″ column_width_use_pixel= »yes » shift_y= »0″ z_index= »0″ content_parallax= »0″ uncode_shortcode_id= »149194″ column_width_pixel= »1500″][vc_column column_width_percent= »100″ position_vertical= »justify » gutter_size= »3″ override_padding= »yes » column_padding= »3″ style= »dark » back_color= »accent » overlay_alpha= »50″ radius= »xl » shift_x= »0″ shift_y= »0″ shift_y_down= »0″ z_index= »0″ medium_width= »0″ mobile_width= »0″ width= »1/2″ uncode_shortcode_id= »190514″ back_color_type= »uncode-palette »][vc_custom_heading heading_semantic= »h3″ text_transform= »uppercase » uncode_shortcode_id= »176464″]Logement[/vc_custom_heading][vc_row_inner limit_content= » »][vc_column_inner column_width_percent= »100″ gutter_size= »3″ style= »dark » overlay_alpha= »50″ shift_x= »0″ shift_y= »0″ shift_y_down= »0″ z_index= »0″ medium_width= »0″ align_mobile= »align_center_mobile » mobile_width= »0″ width= »1/1″ uncode_shortcode_id= »190492″][vc_column_text uncode_shortcode_id= »635629″] \n3 chambres + 1 cabine\n[/vc_column_text][vc_separator sep_color= »\,Default »][vc_column_text uncode_shortcode_id= »590324″] \n2 salles de bain\n[/vc_column_text][vc_separator sep_color= »\,Default »][vc_column_text uncode_shortcode_id= »110744″] \n54 m2\n[/vc_column_text][vc_separator sep_color= »\,Default »][vc_column_text uncode_shortcode_id= »446637″] \nDans la station piétonne\n[/vc_column_text][vc_separator sep_color= »\,Default »][vc_column_text uncode_shortcode_id= »116715″] \nCasier à ski\n[/vc_column_text][/vc_column_inner][/vc_row_inner][vc_button border_width= »0″ link= »url:https%3A%2F%2Fwww.avoriaz-holidays.com%2Ffr%2Fnos-locations%2Fps1512ch%2F4-pieces-8-personnes-avoriaz.html|target:_blank|rel:nofollow » uncode_shortcode_id= »492631″]Voir plus[/vc_button][/vc_column][vc_column column_width_percent= »100″ position_vertical= »justify » gutter_size= »3″ back_image= »11747″ back_position= »center bottom » overlay_alpha= »50″ radius= »xl » shift_x= »0″ shift_y= »0″ shift_y_down= »0″ z_index= »0″ medium_width= »0″ mobile_width= »0″ width= »1/2″ uncode_shortcode_id= »183619″ mobile_height= »33vh »][/vc_column][/vc_row][vc_row unlock_row_content= »yes » row_height_percent= »0″ override_padding= »yes » h_padding= »0″ top_padding= »0″ bottom_padding= »0″ back_color= »accent » overlay_alpha= »50″ gutter_size= »0″ column_width_percent= »100″ shift_y= »0″ z_index= »0″ uncode_shortcode_id= »124992″ back_color_type= »uncode-palette »][vc_column column_width_percent= »100″ align_horizontal= »align_center » gutter_size= »3″ style= »dark » overlay_alpha= »50″ shift_x= »0″ shift_y= »0″ shift_y_down= »0″ z_index= »0″ medium_width= »0″ mobile_width= »0″ width= »1/1″ uncode_shortcode_id= »504915″][vc_row_inner row_inner_height_percent= »0″ overlay_alpha= »50″ equal_height= »yes » gutter_size= »0″ shift_y= »0″ z_index= »0″ limit_content= » »][vc_column_inner column_width_percent= »100″ gutter_size= »2″ override_padding= »yes » column_padding= »3″ style= »dark » overlay_alpha= »50″ shift_x= »0″ shift_y= »0″ shift_y_down= »0″ z_index= »0″ medium_width= »0″ mobile_width= »0″ css_animation= »alpha-anim » animation_speed= »1000″ width= »1/3″ uncode_shortcode_id= »181086″][vc_icon icon= »fa fa-map3″ size= »fa-3x » uncode_shortcode_id= »387076″ title= »Lieu »][/vc_icon][vc_column_text text_lead= »yes » uncode_shortcode_id= »746671″]69 Pl. Centrale\, 74110 Morzine[/vc_column_text][/vc_column_inner][vc_column_inner column_width_percent= »100″ gutter_size= »2″ override_padding= »yes » column_padding= »3″ style= »dark » overlay_color= »color-jevc » overlay_alpha= »5″ shift_x= »0″ shift_y= »0″ shift_y_down= »0″ z_index= »0″ medium_width= »0″ mobile_width= »0″ css_animation= »alpha-anim » animation_speed= »1000″ animation_delay= »200″ width= »1/3″ uncode_shortcode_id= »106134″ overlay_color_type= »uncode-palette »][vc_icon icon= »fa fa-profile-male » size= »fa-3x » uncode_shortcode_id= »816734″ title= »Places disponibles »][/vc_icon][vc_column_text text_lead= »yes » uncode_shortcode_id= »165034″]8 personnes[/vc_column_text][/vc_column_inner][vc_column_inner column_width_percent= »100″ gutter_size= »2″ override_padding= »yes » column_padding= »3″ style= »dark » overlay_color= »color-jevc » overlay_alpha= »10″ shift_x= »0″ shift_y= »0″ shift_y_down= »0″ z_index= »0″ medium_width= »0″ mobile_width= »0″ css_animation= »alpha-anim » animation_speed= »1000″ animation_delay= »400″ width= »1/3″ uncode_shortcode_id= »203006″ overlay_color_type= »uncode-palette »][vc_icon icon= »fa fa-wallet » size= »fa-3x » uncode_shortcode_id= »494460″ title= »Coût approximatif »][/vc_icon][vc_column_text text_lead= »yes » uncode_shortcode_id= »143747″]Logement : 350€\nNourriture : 150€\nForfait station : 300€\nLocation snow + boots + casque : 130€\nTransport (train depuis Paris) : 130€ \nEstimations données à titre indicatif. Seul le règlement du logement est requis pour l’inscription.[/vc_column_text][/vc_column_inner][/vc_row_inner][/vc_column][/vc_row][vc_row unlock_row_content= »yes » row_height_percent= »0″ override_padding= »yes » h_padding= »0″ top_padding= »0″ bottom_padding= »0″ overlay_alpha= »100″ gutter_size= »3″ column_width_percent= »100″ shift_y= »0″ z_index= »0″ content_parallax= »0″ uncode_shortcode_id= »250640″][vc_column column_width_percent= »100″ position_horizontal= »left » gutter_size= »3″ expand_height= »yes » overlay_alpha= »100″ shift_x= »0″ shift_y= »0″ shift_y_down= »0″ z_index= »0″ medium_width= »0″ mobile_width= »0″ zoom_width= »0″ zoom_height= »0″ width= »1/1″ mobile_height= »360″][vc_column_text uncode_shortcode_id= »350678″][/vc_column_text][/vc_column][/vc_row][vc_row][vc_column width= »1/1″][vc_empty_space empty_h= »2″][/vc_column][/vc_row][vc_row unlock_row_content= »yes » row_height_percent= »0″ override_padding= »yes » h_padding= »0″ top_padding= »0″ bottom_padding= »0″ overlay_alpha= »50″ equal_height= »yes » gutter_size= »0″ column_width_percent= »100″ shift_y= »0″ z_index= »0″ uncode_shortcode_id= »938548″][vc_column column_width_percent= »100″ position_vertical= »middle » gutter_size= »3″ override_padding= »yes » column_padding= »3″ style= »light » back_color= »color-uydo » overlay_alpha= »50″ shift_x= »0″ shift_y= »0″ shift_y_down= »0″ z_index= »0″ medium_width= »0″ mobile_width= »0″ width= »1/2″ uncode_shortcode_id= »977796″ back_color_type= »uncode-palette »][vc_custom_heading heading_semantic= »h6″ text_size= »h6″ text_transform= »uppercase » badge_style= »yes » radius= »sm » uncode_shortcode_id= »212460″ back_color_type= »uncode-solid » back_color_solid= »rgba(255\,255\,255\,0.2) »]Formations[/vc_custom_heading][vc_custom_heading heading_semantic= »h3″ text_size= »h1″ uncode_shortcode_id= »697445″]Envie de progresser ?[/vc_custom_heading][vc_custom_heading heading_semantic= »h4″ text_size= »h4″ text_weight= »400″ uncode_shortcode_id= »424617″] \nAvoriaz est une station historiquement tournée vers le snowboard. Il y a d’excellentes offres de formation.\n\nOrganismes : ESF\, Avoriaz Snowboard School\, Evolution 2.\nCours collectifs : plutôt pour niveau débutant à intermédiaire.\nCours particuliers : Tous les niveaux\, sur mesure.\nStages thématiques : Freestyle\, Freeride / Hors-Piste.\n\nPour les personnes qui débutent dans le snowboard\, il est nécessaire de suivre des cours professionnels.[/vc_custom_heading][/vc_column][vc_column column_width_percent= »100″ position_vertical= »middle » align_horizontal= »align_center » gutter_size= »0″ override_padding= »yes » column_padding= »0″ style= »dark » back_color= »accent » overlay_alpha= »50″ shift_x= »0″ shift_y= »0″ shift_y_down= »0″ z_index= »0″ medium_width= »0″ mobile_width= »0″ width= »1/2″ uncode_shortcode_id= »156921″ back_color_type= »uncode-palette »][vc_single_image media= »11752″ media_width_percent= »100″ alignment= »center » uncode_shortcode_id= »155488″][vc_row_inner limit_content= » »][vc_column_inner column_width_percent= »100″ align_horizontal= »align_center » gutter_size= »3″ override_padding= »yes » column_padding= »2″ style= »dark » overlay_alpha= »50″ shift_x= »0″ shift_y= »0″ shift_y_down= »0″ z_index= »0″ medium_width= »0″ mobile_width= »0″ width= »1/1″ uncode_shortcode_id= »143121″][vc_column_text text_lead= »yes » uncode_shortcode_id= »187064″]Séjour non encadré.\nPosez vos questions sur le canal Slack #groupe-snowboard.[/vc_column_text][/vc_column_inner][/vc_row_inner][/vc_column][/vc_row][vc_row row_height_percent= »50″ override_padding= »yes » h_padding= »2″ top_padding= »5″ bottom_padding= »5″ back_image= »11758″ back_position= »center center » parallax= »yes » overlay_color= »color-nhtu » overlay_alpha= »90″ gutter_size= »3″ column_width_percent= »100″ shift_y= »0″ z_index= »0″ content_parallax= »0″ uncode_shortcode_id= »151668″ overlay_color_type= »uncode-palette »][vc_column column_width_use_pixel= »yes » position_vertical= »middle » align_horizontal= »align_center » gutter_size= »3″ style= »dark » overlay_alpha= »50″ shift_x= »0″ shift_y= »0″ shift_y_down= »0″ z_index= »0″ medium_width= »0″ mobile_width= »0″ width= »1/1″ column_width_pixel= »900″ uncode_shortcode_id= »191567″][vc_custom_heading text_color= »accent » heading_semantic= »h6″ text_size= »h6″ text_transform= »uppercase » uncode_shortcode_id= »111696″ text_color_type= »uncode-palette »]Intéressé.e ?[/vc_custom_heading][vc_custom_heading heading_semantic= »h3″ text_size= »h1″ uncode_shortcode_id= »182844″]Inscris-toi maintenant sur Slack\n#groupe-snowboard[/vc_custom_heading][/vc_column][/vc_row][vc_row][vc_column width= »1/1″][vc_empty_space empty_h= »3″][/vc_column][/vc_row]
URL:https://grimpeglisse.org/sortie-sejour/semaine-snowboard-a-avoriaz/
CATEGORIES:Snowboard
ATTACH;FMTTYPE=image/jpeg:https://grimpeglisse.org/wp-content/uploads/2025/09/IMG_0579_3.jpg
END:VEVENT
END:VCALENDAR