BEGIN:VCALENDAR
VERSION:2.0
PRODID:-//Grimpe &amp; Glisse - ECPv6.15.20//NONSGML v1.0//EN
CALSCALE:GREGORIAN
METHOD:PUBLISH
X-WR-CALNAME:Grimpe &amp; Glisse
X-ORIGINAL-URL:https://grimpeglisse.org
X-WR-CALDESC:Évènements pour Grimpe &amp; Glisse
REFRESH-INTERVAL;VALUE=DURATION:PT1H
X-Robots-Tag:noindex
X-PUBLISHED-TTL:PT1H
BEGIN:VTIMEZONE
TZID:Europe/Paris
BEGIN:DAYLIGHT
TZOFFSETFROM:+0100
TZOFFSETTO:+0200
TZNAME:CEST
DTSTART:20240331T010000
END:DAYLIGHT
BEGIN:STANDARD
TZOFFSETFROM:+0200
TZOFFSETTO:+0100
TZNAME:CET
DTSTART:20241027T010000
END:STANDARD
BEGIN:DAYLIGHT
TZOFFSETFROM:+0100
TZOFFSETTO:+0200
TZNAME:CEST
DTSTART:20250330T010000
END:DAYLIGHT
BEGIN:STANDARD
TZOFFSETFROM:+0200
TZOFFSETTO:+0100
TZNAME:CET
DTSTART:20251026T010000
END:STANDARD
BEGIN:DAYLIGHT
TZOFFSETFROM:+0100
TZOFFSETTO:+0200
TZNAME:CEST
DTSTART:20260329T010000
END:DAYLIGHT
BEGIN:STANDARD
TZOFFSETFROM:+0200
TZOFFSETTO:+0100
TZNAME:CET
DTSTART:20261025T010000
END:STANDARD
END:VTIMEZONE
BEGIN:VEVENT
DTSTART;VALUE=DATE:20251003
DTEND;VALUE=DATE:20251006
DTSTAMP:20260423T052316
CREATED:20250805T140959Z
LAST-MODIFIED:20250828T093614Z
UID:11332-1759449600-1759708799@grimpeglisse.org
SUMMARY:Week-end couenne interclubs en mixité choisie FLINTA* [COMPLET]
DESCRIPTION:[vc_row row_height_percent= »50″ override_padding= »yes » h_padding= »2″ top_padding= »5″ bottom_padding= »5″ back_color= »color-wayh » back_image= »10012″ overlay_color= »color-nhtu » overlay_alpha= »80″ gutter_size= »3″ column_width_percent= »100″ shift_y= »0″ z_index= »0″ content_parallax= »0″ uncode_shortcode_id= »117888″ back_color_type= »uncode-palette » overlay_color_type= »uncode-palette »][vc_column column_width_use_pixel= »yes » position_vertical= »middle » align_horizontal= »align_center » gutter_size= »3″ style= »dark » overlay_alpha= »50″ shift_x= »0″ shift_y= »0″ shift_y_down= »0″ z_index= »0″ medium_width= »0″ mobile_width= »0″ width= »1/1″ column_width_pixel= »900″][vc_custom_heading text_color= »accent » heading_semantic= »h6″ text_size= »h6″ text_transform= »uppercase » uncode_shortcode_id= »143532″ text_color_type= »uncode-palette »]Escalade en couenne[/vc_custom_heading][vc_custom_heading heading_semantic= »h3″ text_size= »h1″ uncode_shortcode_id= »190985″]Couenne à la Vallée Heureuse avec la FSGT![/vc_custom_heading][vc_row_inner row_inner_height_percent= »0″ overlay_alpha= »50″ equal_height= »yes » gutter_size= »0″ shift_y= »0″ z_index= »0″ uncode_shortcode_id= »325209″][vc_column_inner column_width_percent= »100″ gutter_size= »2″ override_padding= »yes » column_padding= »0″ style= »dark » overlay_alpha= »50″ shift_x= »0″ shift_y= »0″ shift_y_down= »0″ z_index= »0″ medium_width= »0″ mobile_width= »0″ width= »1/2″ uncode_shortcode_id= »799260″][vc_single_image media= »10157″ media_width_percent= »75″ alignment= »center » uncode_shortcode_id= »621857″][/vc_column_inner][vc_column_inner width= »1/4″][vc_single_image media= »11335″ media_width_percent= »100″ uncode_shortcode_id= »103336″][/vc_column_inner][/vc_row_inner][/vc_column][/vc_row][vc_row][vc_column width= »1/1″][vc_column_text uncode_shortcode_id= »206163″] \nSORTIE COUENNE INTERCLUBS EN MIXITE CHOISIE FLINTA* – Du 03 au 05 OCTOBRE – ☀️\nEn collaboration avec des clubs FGST de Marseille et d’Ile-de-France\, nous avons le plaisir de vous inviter à une sortie interclubs d’escalade en mixité choisie les 3\, 4 et 5 octobre 2025\, à Orgon (13660\, entre Avignon et Marseille).\nCe week-end est pensé comme un espace bienveillant pour partager la grimpe\, transmettre nos expériences et créer un temps collectif sécurisant et joyeux\, entre femmes cis et personnes minorisées en raison de leur genre. \nLa mixité choisie signifie que cette sortie est organisée par et pour les personnes qui ne sont pas des hommes cisgenres.\nL’objectif est d’ouvrir un espace sportif et militant où nous pouvons grimper ensemble\, prendre notre place\, échanger et partager nos vécus parfois invisibilisés dans les sorties mixtes. Femmes cis\, personnes trans\, non-binaires : vous êtes les bienvenu·es ✨ \nNous poserons notre campement au camping de la Vallée Heureuse\, au cœur des falaises d’Orgon. Une dizaine de secteurs sont accessibles à pied et nous choisirons ensemble les falaises en fonction des envies et des niveaux.\nL’arrivée est possible dès le jeudi soir pour profiter d’une journée complète le vendredi\, mais il est aussi possible de nous rejoindre uniquement pour le week-end à partir du vendredi soir. Le départ se fera le dimanche en fin d’après-midi. \nAu programme : grimpe en couenne\, ateliers vols et manips de sécurité\, temps d’échanges autour de nos expériences en escalade\, un grand apéro commun le vendredi soir\, baignade en lac ou piscine (si la météo est avec nous 🤞) et quelques moments conviviaux pour nourrir la cohésion du groupe. \nLe site est accessible en train (gare d’Orgon\, TER depuis Marseille ou Avignon)\, en voiture avec possibilité de covoiturage entre participant·es\, ou même à vélo depuis Avignon. La gare se trouve à 15 min à pied du camping.\nLe budget camping est de 9 € / nuit / personne. Nous procéderons à une réservation de groupe pour simplifier l’organisation commune.\nUn mail de règlement du camping sera envoyé à toutes les personnes inscrites : merci de régler vos nuitées avant le 3 septembre\, faute de quoi votre inscription ne pourra pas être confirmée. \nLe vendredi soir\, un apéritif dînatoire collectif est prévu : chacun·e est invité·e à apporter une spécialité à partager.\nDurant le week-end\, les repas sont individuels\, en auto-gestion. \nUn formulaire d’inscription vous permet de confirmer votre venue\, préciser votre autonomie en escalade\, vos besoins (matériel à prêter\, alimentation\, transport…)\, ou proposer un atelier si vous le souhaitez.\nLe week-end est limité à 30 participant·es maîtrisant l’assurage dynamique en tête et la grimpe en tête\, sans prérequis de niveau.\nHuit places sont réservées aux débutant·es en falaise\, pour lesquel·le·s des ateliers de manip de haut de voie seront proposés de sorte à découvrir la grimpe en falaise en toute sécurité. \n⚠️ Pour valider votre inscription\, merci de remplir le formulaire avant le 31 août 2025 et de régler vos nuitées avant le 3 septembre via le lien qui vous sera envoyé. \nNous avons hâte de vivre ce week-end d’entraide\, de transmission et d’empouvoirement avec vous\, pour grimper\, rire et partager 🌸 \nL’équipe d’orga interclubs\nHélène (Grimpe et Glisse)\, Jad (Grimpe heureuse de Pierrefitte)\, Lucie (Cime Sardine)\, Isabelle (Grimpe et Glisse\, Apache)\, Marie (Cime Sardine).[/vc_column_text][/vc_column][/vc_row][vc_row unlock_row_content= »yes » row_height_percent= »0″ override_padding= »yes » h_padding= »3″ top_padding= »2″ bottom_padding= »0″ overlay_alpha= »50″ gutter_size= »3″ column_width_percent= »100″ shift_y= »0″ z_index= »0″ content_parallax= »0″ uncode_shortcode_id= »164146″][vc_column column_width_percent= »100″ gutter_size= »3″ override_padding= »yes » column_padding= »5″ style= »light » back_image= »10266″ overlay_color= »color-gyho » overlay_alpha= »85″ radius= »hg » shift_x= »0″ shift_y= »0″ shift_y_down= »0″ z_index= »0″ medium_width= »0″ mobile_width= »0″ width= »1/1″ uncode_shortcode_id= »217126″ overlay_color_type= »uncode-palette »][vc_row_inner row_inner_height_percent= »0″ overlay_alpha= »50″ gutter_size= »2″ shift_y= »0″ z_index= »0″ limit_content= » » uncode_shortcode_id= »209343″][vc_column_inner column_width_percent= »100″ gutter_size= »4″ style= »light » overlay_alpha= »50″ shift_x= »0″ shift_y= »0″ shift_y_down= »0″ z_index= »0″ medium_width= »0″ mobile_width= »0″ width= »8/12″ uncode_shortcode_id= »187603″][vc_custom_heading uncode_shortcode_id= »193365″]Niveau technique et physique[/vc_custom_heading][/vc_column_inner][/vc_row_inner][vc_column_text uncode_shortcode_id= »148689″]Endurance : ❤️ – Technicité : ⛰️\nPré-requis : savoir assurer en tête (assurage dynamique)\, savoir grimper en tête (sans prérequis de niveau)[/vc_column_text][/vc_column][/vc_row][vc_row unlock_row_content= »yes » row_height_percent= »0″ override_padding= »yes » h_padding= »0″ top_padding= »0″ bottom_padding= »0″ back_color= »accent » overlay_alpha= »50″ gutter_size= »0″ column_width_percent= »100″ shift_y= »0″ z_index= »0″ uncode_shortcode_id= »124992″ back_color_type= »uncode-palette »][vc_column column_width_percent= »100″ align_horizontal= »align_center » gutter_size= »3″ style= »dark » overlay_alpha= »50″ shift_x= »0″ shift_y= »0″ shift_y_down= »0″ z_index= »0″ medium_width= »0″ mobile_width= »0″ width= »1/1″ uncode_shortcode_id= »504915″][vc_row_inner row_inner_height_percent= »0″ overlay_alpha= »50″ equal_height= »yes » gutter_size= »0″ shift_y= »0″ z_index= »0″ limit_content= » »][vc_column_inner column_width_percent= »100″ gutter_size= »2″ override_padding= »yes » column_padding= »3″ style= »dark » overlay_alpha= »50″ shift_x= »0″ shift_y= »0″ shift_y_down= »0″ z_index= »0″ medium_width= »0″ mobile_width= »0″ css_animation= »alpha-anim » animation_speed= »1000″ width= »1/3″ uncode_shortcode_id= »181086″][vc_icon icon= »fa fa-map3″ size= »fa-3x » uncode_shortcode_id= »387076″ title= »Lieu »][/vc_icon][vc_column_text text_lead= »yes » uncode_shortcode_id= »593808″]Orgon[/vc_column_text][/vc_column_inner][vc_column_inner column_width_percent= »100″ gutter_size= »2″ override_padding= »yes » column_padding= »3″ style= »dark » overlay_color= »color-jevc » overlay_alpha= »5″ shift_x= »0″ shift_y= »0″ shift_y_down= »0″ z_index= »0″ medium_width= »0″ mobile_width= »0″ css_animation= »alpha-anim » animation_speed= »1000″ animation_delay= »200″ width= »1/3″ uncode_shortcode_id= »106134″ overlay_color_type= »uncode-palette »][vc_icon icon= »fa fa-profile-male » size= »fa-3x » uncode_shortcode_id= »816734″ title= »Places disponibles »][/vc_icon][vc_column_text text_lead= »yes » uncode_shortcode_id= »962131″]3 débutant·es + 7 autonomes[/vc_column_text][/vc_column_inner][vc_column_inner column_width_percent= »100″ gutter_size= »2″ override_padding= »yes » column_padding= »3″ style= »dark » overlay_color= »color-jevc » overlay_alpha= »10″ shift_x= »0″ shift_y= »0″ shift_y_down= »0″ z_index= »0″ medium_width= »0″ mobile_width= »0″ css_animation= »alpha-anim » animation_speed= »1000″ animation_delay= »400″ width= »1/3″ uncode_shortcode_id= »203006″ overlay_color_type= »uncode-palette »][vc_icon icon= »fa fa-wallet » size= »fa-3x » uncode_shortcode_id= »494460″ title= »Coût approximatif »][/vc_icon][vc_column_text text_lead= »yes » uncode_shortcode_id= »114219″]Logement : 9€ par nuit\nTrain (depuis Paris ou Grenoble) : env 90€\nNourriture: autogéré\nFormation GGG : 15€[/vc_column_text][/vc_column_inner][/vc_row_inner][/vc_column][/vc_row][vc_row unlock_row_content= »yes » row_height_percent= »0″ override_padding= »yes » h_padding= »0″ top_padding= »0″ bottom_padding= »0″ overlay_alpha= »100″ gutter_size= »3″ column_width_percent= »100″ shift_y= »0″ z_index= »0″ content_parallax= »0″ uncode_shortcode_id= »250640″][vc_column column_width_percent= »100″ position_horizontal= »left » gutter_size= »3″ expand_height= »yes » overlay_alpha= »100″ shift_x= »0″ shift_y= »0″ shift_y_down= »0″ z_index= »0″ medium_width= »0″ mobile_width= »0″ zoom_width= »0″ zoom_height= »0″ width= »1/1″ mobile_height= »360″][vc_column_text uncode_shortcode_id= »516963″][/vc_column_text][/vc_column][/vc_row][vc_row][vc_column width= »1/1″][vc_empty_space empty_h= »2″][/vc_column][/vc_row][vc_row unlock_row_content= »yes » row_height_percent= »0″ override_padding= »yes » h_padding= »0″ top_padding= »0″ bottom_padding= »0″ overlay_alpha= »50″ equal_height= »yes » gutter_size= »0″ column_width_percent= »100″ shift_y= »0″ z_index= »0″ uncode_shortcode_id= »938548″][vc_column column_width_percent= »100″ position_vertical= »middle » gutter_size= »3″ override_padding= »yes » column_padding= »5″ style= »light » back_color= »color-uydo » overlay_alpha= »50″ shift_x= »0″ shift_y= »0″ shift_y_down= »0″ z_index= »0″ medium_width= »0″ mobile_width= »0″ width= »1/2″ uncode_shortcode_id= »956385″ back_color_type= »uncode-palette »][vc_custom_heading heading_semantic= »h6″ text_size= »h6″ text_transform= »uppercase » badge_style= »yes » radius= »sm » uncode_shortcode_id= »131824″ back_color_type= »uncode-solid » back_color_solid= »rgba(255\,255\,255\,0.2) »]à prévoir[/vc_custom_heading][vc_custom_heading heading_semantic= »h3″ text_size= »h1″ uncode_shortcode_id= »200112″]Matériel[/vc_custom_heading][vc_custom_heading heading_semantic= »h4″ text_size= »h4″ text_weight= »400″ uncode_shortcode_id= »181180″] \nMatériel\n\nChaussons\nBaudrier\nCasque\nSystème d’assurage\nLonge\n1 mousqueton\nMachard (optionnel)\nDégaines ou corde (mutualisé)\nSac de couchage\, matelas\nTente (mutualisé)\nRéchaud (mutualisé)\n\n[/vc_custom_heading][/vc_column][vc_column column_width_percent= »100″ position_vertical= »middle » align_horizontal= »align_center » gutter_size= »0″ override_padding= »yes » column_padding= »0″ style= »dark » back_color= »accent » overlay_alpha= »50″ shift_x= »0″ shift_y= »0″ shift_y_down= »0″ z_index= »0″ medium_width= »0″ mobile_width= »0″ width= »1/2″ uncode_shortcode_id= »156921″ back_color_type= »uncode-palette »][vc_single_image media= »9998″ media_width_percent= »100″ media_ratio= »sixteen-nine » alignment= »center » uncode_shortcode_id= »571741″][vc_row_inner limit_content= » »][vc_column_inner column_width_percent= »100″ align_horizontal= »align_center » gutter_size= »3″ override_padding= »yes » column_padding= »2″ style= »dark » overlay_alpha= »50″ shift_x= »0″ shift_y= »0″ shift_y_down= »0″ z_index= »0″ medium_width= »0″ mobile_width= »0″ width= »1/1″ uncode_shortcode_id= »143121″][vc_custom_heading uncode_shortcode_id= »159832″]Encadrement[/vc_custom_heading][vc_column_text text_lead= »yes » uncode_shortcode_id= »744621″]Hélène[/vc_column_text][vc_separator sep_color= » » uncode_shortcode_id= »209870″][vc_custom_heading heading_semantic= »h3″ text_size= »h3″ uncode_shortcode_id= »131459″]Pour toute question :\nheleneca@grimpeglisse.org[/vc_custom_heading][/vc_column_inner][/vc_row_inner][/vc_column][/vc_row][vc_row unlock_row_content= »yes » row_height_percent= »50″ override_padding= »yes » h_padding= »0″ top_padding= »3″ bottom_padding= »0″ overlay_alpha= »50″ equal_height= »yes » gutter_size= »0″ column_width_percent= »100″ shift_y= »0″ z_index= »0″ content_parallax= »0″ uncode_shortcode_id= »705376″][vc_column column_width_percent= »100″ gutter_size= »0″ override_padding= »yes » column_padding= »2″ overlay_alpha= »50″ shift_x= »0″ shift_y= »0″ shift_y_down= »0″ z_index= »0″ medium_width= »0″ mobile_width= »0″ width= »1/1″ uncode_shortcode_id= »355714″][vc_row_inner row_inner_height_percent= »0″ overlay_alpha= »50″ equal_height= »yes » gutter_size= »0″ shift_y= »0″ z_index= »0″ uncode_shortcode_id= »325209″][vc_column_inner width= »1/4″][/vc_column_inner][vc_column_inner column_width_percent= »100″ gutter_size= »2″ override_padding= »yes » column_padding= »4″ style= »dark » back_color= »color-wayh » overlay_alpha= »50″ shift_x= »0″ shift_y= »0″ shift_y_down= »0″ z_index= »0″ medium_width= »0″ mobile_width= »0″ width= »1/2″ uncode_shortcode_id= »100406″ back_color_type= »uncode-palette »][vc_icon icon= »fa fa-warning3″ icon_color= »accent » size= »fa-4x » align= »left » title= »Important » uncode_shortcode_id= »152432″ icon_color_type= »uncode-palette »]Licence FFCAM obligatoire.[/vc_icon][vc_single_image media= »10228″ media_width_percent= »75″ alignment= »center » uncode_shortcode_id= »175174″][/vc_column_inner][vc_column_inner width= »1/4″][/vc_column_inner][/vc_row_inner][/vc_column][/vc_row][vc_row row_height_percent= »50″ override_padding= »yes » h_padding= »2″ top_padding= »5″ bottom_padding= »5″ back_image= »9998″ back_position= »center center » parallax= »yes » overlay_color= »color-nhtu » overlay_alpha= »90″ gutter_size= »3″ column_width_percent= »100″ shift_y= »0″ z_index= »0″ content_parallax= »0″ uncode_shortcode_id= »104803″ overlay_color_type= »uncode-palette »][vc_column column_width_use_pixel= »yes » position_vertical= »middle » align_horizontal= »align_center » gutter_size= »3″ style= »dark » overlay_alpha= »50″ shift_x= »0″ shift_y= »0″ shift_y_down= »0″ z_index= »0″ medium_width= »0″ mobile_width= »0″ width= »1/1″ column_width_pixel= »900″ uncode_shortcode_id= »191567″][vc_custom_heading text_color= »accent » heading_semantic= »h6″ text_size= »h6″ text_transform= »uppercase » uncode_shortcode_id= »111696″ text_color_type= »uncode-palette »]Intéressé.e ?[/vc_custom_heading][vc_custom_heading heading_semantic= »h3″ text_size= »h1″ uncode_shortcode_id= »397589″]Inscris-toi sur le formulaire[/vc_custom_heading][vc_column_text uncode_shortcode_id= »382839″]Séjour complet![/vc_column_text][/vc_column][/vc_row][vc_row][vc_column width= »1/1″][vc_empty_space empty_h= »3″][/vc_column][/vc_row]
URL:https://grimpeglisse.org/sortie-sejour/week-end-couenne-interclubs-en-mixite-choisie-flinta/
CATEGORIES:Escalade SNE
ATTACH;FMTTYPE=image/jpeg:https://grimpeglisse.org/wp-content/uploads/2025/08/WhatsApp-Image-2025-08-04-at-15.44.33-1.jpeg
END:VEVENT
END:VCALENDAR