BEGIN:VCALENDAR
VERSION:2.0
PRODID:-//Grimpe &amp; Glisse - ECPv6.15.20//NONSGML v1.0//EN
CALSCALE:GREGORIAN
METHOD:PUBLISH
X-ORIGINAL-URL:https://grimpeglisse.org
X-WR-CALDESC:Évènements pour Grimpe &amp; Glisse
REFRESH-INTERVAL;VALUE=DURATION:PT1H
X-Robots-Tag:noindex
X-PUBLISHED-TTL:PT1H
BEGIN:VTIMEZONE
TZID:Europe/Paris
BEGIN:DAYLIGHT
TZOFFSETFROM:+0100
TZOFFSETTO:+0200
TZNAME:CEST
DTSTART:20240331T010000
END:DAYLIGHT
BEGIN:STANDARD
TZOFFSETFROM:+0200
TZOFFSETTO:+0100
TZNAME:CET
DTSTART:20241027T010000
END:STANDARD
BEGIN:DAYLIGHT
TZOFFSETFROM:+0100
TZOFFSETTO:+0200
TZNAME:CEST
DTSTART:20250330T010000
END:DAYLIGHT
BEGIN:STANDARD
TZOFFSETFROM:+0200
TZOFFSETTO:+0100
TZNAME:CET
DTSTART:20251026T010000
END:STANDARD
BEGIN:DAYLIGHT
TZOFFSETFROM:+0100
TZOFFSETTO:+0200
TZNAME:CEST
DTSTART:20260329T010000
END:DAYLIGHT
BEGIN:STANDARD
TZOFFSETFROM:+0200
TZOFFSETTO:+0100
TZNAME:CET
DTSTART:20261025T010000
END:STANDARD
END:VTIMEZONE
BEGIN:VEVENT
DTSTART;VALUE=DATE:20250927
DTEND;VALUE=DATE:20250929
DTSTAMP:20260423T065940
CREATED:20250801T190651Z
LAST-MODIFIED:20250904T095412Z
UID:11204-1758931200-1759103999@grimpeglisse.org
SUMMARY:WE découverte alpinisme rocheux
DESCRIPTION:[vc_row row_height_percent= »50″ override_padding= »yes » h_padding= »2″ top_padding= »5″ bottom_padding= »5″ back_color= »color-wayh » back_image= »10012″ overlay_color= »color-nhtu » overlay_alpha= »80″ gutter_size= »3″ column_width_percent= »100″ shift_y= »0″ z_index= »0″ content_parallax= »0″ uncode_shortcode_id= »117888″ back_color_type= »uncode-palette » overlay_color_type= »uncode-palette »][vc_column column_width_use_pixel= »yes » position_vertical= »middle » align_horizontal= »align_center » gutter_size= »3″ style= »dark » overlay_alpha= »50″ shift_x= »0″ shift_y= »0″ shift_y_down= »0″ z_index= »0″ medium_width= »0″ mobile_width= »0″ width= »1/1″ column_width_pixel= »900″][vc_custom_heading text_color= »accent » heading_semantic= »h6″ text_size= »h6″ text_transform= »uppercase » uncode_shortcode_id= »793198″ text_color_type= »uncode-palette »]Alpinisme rocheux[/vc_custom_heading][vc_custom_heading heading_semantic= »h3″ text_size= »h1″ uncode_shortcode_id= »114882″]Viens découvrir les bases de l’alpinisme rocheux\, le matériel\, les techniques de progression\, l’encordement\, les rappels et autres joyeusetés \n  \n[/vc_custom_heading][vc_row_inner row_inner_height_percent= »0″ overlay_alpha= »50″ equal_height= »yes » gutter_size= »0″ shift_y= »0″ z_index= »0″ uncode_shortcode_id= »325209″][vc_column_inner width= »1/4″][/vc_column_inner][vc_column_inner column_width_percent= »100″ gutter_size= »2″ override_padding= »yes » column_padding= »0″ style= »dark » overlay_alpha= »50″ shift_x= »0″ shift_y= »0″ shift_y_down= »0″ z_index= »0″ medium_width= »0″ mobile_width= »0″ width= »1/2″ uncode_shortcode_id= »799260″][vc_single_image media= »10157″ media_width_percent= »75″ alignment= »center » uncode_shortcode_id= »621857″][/vc_column_inner][vc_column_inner width= »1/4″][/vc_column_inner][/vc_row_inner][/vc_column][/vc_row][vc_row][vc_column width= »1/1″][vc_column_text uncode_shortcode_id= »136781″] \nWE initiation à l’alpinisme rocheux – Du 27 au 28 septembre 2025 –\nEnvie de grimper un peu plus haut que le rideau ? Cette sortie est faite pour toi pour découvrir l’alpinisme rocheux avec un fond de gaz et un cadre très sympa. Au programme : progression sur rocher\, manip’ de corde (rappel\, anneaux de bustes)\, assurage\, le matos nécessaire (coinceurs\, friends\, cordes adaptées)\, et surtout apprendre à évoluer en sécurité en montagne. \n  \n  \n[/vc_column_text][/vc_column][/vc_row][vc_row unlock_row_content= »yes » row_height_percent= »0″ override_padding= »yes » h_padding= »3″ top_padding= »2″ bottom_padding= »0″ overlay_alpha= »50″ gutter_size= »3″ column_width_percent= »100″ shift_y= »0″ z_index= »0″ content_parallax= »0″ uncode_shortcode_id= »164146″][vc_column column_width_percent= »100″ gutter_size= »3″ override_padding= »yes » column_padding= »5″ style= »light » back_image= »10266″ overlay_color= »color-gyho » overlay_alpha= »85″ radius= »hg » shift_x= »0″ shift_y= »0″ shift_y_down= »0″ z_index= »0″ medium_width= »0″ mobile_width= »0″ width= »1/1″ uncode_shortcode_id= »217126″ overlay_color_type= »uncode-palette »][vc_row_inner row_inner_height_percent= »0″ overlay_alpha= »50″ gutter_size= »2″ shift_y= »0″ z_index= »0″ limit_content= » » uncode_shortcode_id= »209343″][vc_column_inner column_width_percent= »100″ gutter_size= »4″ style= »light » overlay_alpha= »50″ shift_x= »0″ shift_y= »0″ shift_y_down= »0″ z_index= »0″ medium_width= »0″ mobile_width= »0″ width= »8/12″ uncode_shortcode_id= »187603″][vc_custom_heading uncode_shortcode_id= »193365″]Niveau technique et physique[/vc_custom_heading][/vc_column_inner][vc_column_inner column_width_percent= »100″ position_vertical= »justify » gutter_size= »3″ overlay_alpha= »50″ shift_x= »0″ shift_y= »0″ shift_y_down= »0″ z_index= »0″ medium_width= »0″ mobile_width= »0″ width= »4/12″ uncode_shortcode_id= »138846″][/vc_column_inner][/vc_row_inner][vc_column_text uncode_shortcode_id= »143383″]Endurance : ❤️❤️ – Technicité : ⛰️⛰️\nPré-requis : savoir assurer en tête – ne pas avoir peur du vide – savoir grimper en tête dans du 5+ \n[/vc_column_text][/vc_column][/vc_row][vc_row unlock_row_content= »yes » row_height_percent= »100″ override_padding= »yes » h_padding= »2″ top_padding= »2″ bottom_padding= »2″ overlay_alpha= »50″ gutter_size= »2″ column_width_use_pixel= »yes » shift_y= »0″ z_index= »0″ content_parallax= »0″ uncode_shortcode_id= »149194″ column_width_pixel= »1500″][vc_column column_width_percent= »100″ position_vertical= »justify » gutter_size= »3″ override_padding= »yes » column_padding= »3″ style= »dark » back_color= »accent » overlay_alpha= »50″ radius= »xl » shift_x= »0″ shift_y= »0″ shift_y_down= »0″ z_index= »0″ medium_width= »0″ mobile_width= »0″ width= »1/2″ uncode_shortcode_id= »190514″ back_color_type= »uncode-palette »][vc_custom_heading heading_semantic= »h3″ text_transform= »uppercase » uncode_shortcode_id= »170869″]Programme[/vc_custom_heading][vc_row_inner limit_content= » »][vc_column_inner column_width_percent= »100″ gutter_size= »3″ style= »dark » overlay_alpha= »50″ shift_x= »0″ shift_y= »0″ shift_y_down= »0″ z_index= »0″ medium_width= »0″ align_mobile= »align_center_mobile » mobile_width= »0″ width= »1/1″ uncode_shortcode_id= »190492″][vc_custom_heading heading_semantic= »h6″ text_size= »custom » text_weight= »400″ uncode_shortcode_id= »169579″ heading_custom_size= »clamp(16px\, 3vw\, 26px) »]Rendez-vous le 27 septembre à Grenoble. \n[/vc_custom_heading][vc_separator sep_color= »\,Default »][vc_column_text uncode_shortcode_id= »431901″] \n27 septembre 2025\nJournée dédiée à la découverte du matériel\, de l’encordement\, de la progression en rocher et mise en pratique avec une course à la demi-journée sur une arête en Chartreuse \n  \n[/vc_column_text][vc_separator sep_color= »\,Default »][vc_column_text uncode_shortcode_id= »114529″] \n28 septembre 2025\nCourse à la journée sur une arête plus aérienne autour de Grenoble qui reprend toutes les techniques (rappel\, corde tendue\, etc.). \n[/vc_column_text][vc_separator sep_color= »\,Default »][/vc_column_inner][/vc_row_inner][/vc_column][vc_column column_width_percent= »100″ position_vertical= »justify » gutter_size= »3″ back_image= »10012″ back_position= »center bottom » overlay_alpha= »50″ radius= »xl » shift_x= »0″ shift_y= »0″ shift_y_down= »0″ z_index= »0″ medium_width= »0″ mobile_width= »0″ width= »1/2″ uncode_shortcode_id= »633285″ mobile_height= »33vh »][/vc_column][/vc_row][vc_row unlock_row_content= »yes » row_height_percent= »0″ override_padding= »yes » h_padding= »0″ top_padding= »0″ bottom_padding= »0″ back_color= »accent » overlay_alpha= »50″ gutter_size= »0″ column_width_percent= »100″ shift_y= »0″ z_index= »0″ uncode_shortcode_id= »124992″ back_color_type= »uncode-palette »][vc_column column_width_percent= »100″ align_horizontal= »align_center » gutter_size= »3″ style= »dark » overlay_alpha= »50″ shift_x= »0″ shift_y= »0″ shift_y_down= »0″ z_index= »0″ medium_width= »0″ mobile_width= »0″ width= »1/1″ uncode_shortcode_id= »504915″][vc_row_inner row_inner_height_percent= »0″ overlay_alpha= »50″ equal_height= »yes » gutter_size= »0″ shift_y= »0″ z_index= »0″ limit_content= » »][vc_column_inner column_width_percent= »100″ gutter_size= »2″ override_padding= »yes » column_padding= »3″ style= »dark » overlay_alpha= »50″ shift_x= »0″ shift_y= »0″ shift_y_down= »0″ z_index= »0″ medium_width= »0″ mobile_width= »0″ css_animation= »alpha-anim » animation_speed= »1000″ width= »1/3″ uncode_shortcode_id= »181086″][vc_icon icon= »fa fa-map3″ size= »fa-3x » uncode_shortcode_id= »387076″ title= »Lieu »][/vc_icon][vc_column_text text_lead= »yes » uncode_shortcode_id= »195849″]Grenoble \n[/vc_column_text][/vc_column_inner][vc_column_inner column_width_percent= »100″ gutter_size= »2″ override_padding= »yes » column_padding= »3″ style= »dark » overlay_color= »color-jevc » overlay_alpha= »5″ shift_x= »0″ shift_y= »0″ shift_y_down= »0″ z_index= »0″ medium_width= »0″ mobile_width= »0″ css_animation= »alpha-anim » animation_speed= »1000″ animation_delay= »200″ width= »1/3″ uncode_shortcode_id= »106134″ overlay_color_type= »uncode-palette »][vc_icon icon= »fa fa-profile-male » size= »fa-3x » uncode_shortcode_id= »816734″ title= »Places disponibles »][/vc_icon][vc_column_text text_lead= »yes » uncode_shortcode_id= »443971″]4 + 1 encadrant \n[/vc_column_text][/vc_column_inner][vc_column_inner column_width_percent= »100″ gutter_size= »2″ override_padding= »yes » column_padding= »3″ style= »dark » overlay_color= »color-jevc » overlay_alpha= »10″ shift_x= »0″ shift_y= »0″ shift_y_down= »0″ z_index= »0″ medium_width= »0″ mobile_width= »0″ css_animation= »alpha-anim » animation_speed= »1000″ animation_delay= »400″ width= »1/3″ uncode_shortcode_id= »203006″ overlay_color_type= »uncode-palette »][vc_icon icon= »fa fa-wallet » size= »fa-3x » uncode_shortcode_id= »494460″ title= »Coût approximatif »][/vc_icon][vc_column_text text_lead= »yes » uncode_shortcode_id= »820037″]Formation GGG : 10€ \n  \n[/vc_column_text][/vc_column_inner][/vc_row_inner][/vc_column][/vc_row][vc_row][vc_column width= »1/1″][vc_empty_space empty_h= »2″][/vc_column][/vc_row][vc_row unlock_row_content= »yes » row_height_percent= »0″ override_padding= »yes » h_padding= »0″ top_padding= »0″ bottom_padding= »0″ overlay_alpha= »50″ equal_height= »yes » gutter_size= »0″ column_width_percent= »100″ shift_y= »0″ z_index= »0″ uncode_shortcode_id= »938548″][vc_column column_width_percent= »100″ position_vertical= »middle » gutter_size= »3″ override_padding= »yes » column_padding= »5″ style= »light » back_color= »color-uydo » overlay_alpha= »50″ shift_x= »0″ shift_y= »0″ shift_y_down= »0″ z_index= »0″ medium_width= »0″ mobile_width= »0″ width= »1/2″ uncode_shortcode_id= »956385″ back_color_type= »uncode-palette »][vc_custom_heading heading_semantic= »h6″ text_size= »h6″ text_transform= »uppercase » badge_style= »yes » radius= »sm » uncode_shortcode_id= »131824″ back_color_type= »uncode-solid » back_color_solid= »rgba(255\,255\,255\,0.2) »]à prévoir[/vc_custom_heading][vc_custom_heading heading_semantic= »h3″ text_size= »h1″ uncode_shortcode_id= »200112″]Matériel[/vc_custom_heading][vc_custom_heading heading_semantic= »h4″ text_size= »h4″ text_weight= »400″ uncode_shortcode_id= »114547″] \nMatériel\n\nChaussons\nBaudrier\nCasque\nReverso\nMachard\nLonge double réglable\nMousquetons de sécurité : X4\nSangles : 1 de 120 cm et une de 180 cm\nChaussures de randonnée\n\n[/vc_custom_heading][/vc_column][vc_column column_width_percent= »100″ position_vertical= »middle » align_horizontal= »align_center » gutter_size= »0″ override_padding= »yes » column_padding= »0″ style= »dark » back_color= »accent » overlay_alpha= »50″ shift_x= »0″ shift_y= »0″ shift_y_down= »0″ z_index= »0″ medium_width= »0″ mobile_width= »0″ width= »1/2″ uncode_shortcode_id= »156921″ back_color_type= »uncode-palette »][vc_single_image media= »9998″ media_width_percent= »100″ media_ratio= »sixteen-nine » alignment= »center » uncode_shortcode_id= »571741″][vc_row_inner limit_content= » »][vc_column_inner column_width_percent= »100″ align_horizontal= »align_center » gutter_size= »3″ override_padding= »yes » column_padding= »2″ style= »dark » overlay_alpha= »50″ shift_x= »0″ shift_y= »0″ shift_y_down= »0″ z_index= »0″ medium_width= »0″ mobile_width= »0″ width= »1/1″ uncode_shortcode_id= »143121″][vc_custom_heading uncode_shortcode_id= »159832″]Encadrement[/vc_custom_heading][vc_column_text text_lead= »yes » uncode_shortcode_id= »590257″]Francois-Xavier Gallat en encadrement \n[/vc_column_text][vc_separator sep_color= » » uncode_shortcode_id= »209870″][vc_custom_heading heading_semantic= »h3″ text_size= »h3″ uncode_shortcode_id= »125643″]Pour toute question : \nFrancois-Xavier Gallat sur Slack \n[/vc_custom_heading][/vc_column_inner][/vc_row_inner][/vc_column][/vc_row][vc_row unlock_row_content= »yes » row_height_percent= »50″ override_padding= »yes » h_padding= »0″ top_padding= »3″ bottom_padding= »0″ overlay_alpha= »50″ equal_height= »yes » gutter_size= »0″ column_width_percent= »100″ shift_y= »0″ z_index= »0″ content_parallax= »0″ uncode_shortcode_id= »705376″][vc_column column_width_percent= »100″ gutter_size= »0″ override_padding= »yes » column_padding= »2″ overlay_alpha= »50″ shift_x= »0″ shift_y= »0″ shift_y_down= »0″ z_index= »0″ medium_width= »0″ mobile_width= »0″ width= »1/1″ uncode_shortcode_id= »355714″][vc_row_inner row_inner_height_percent= »0″ overlay_alpha= »50″ equal_height= »yes » gutter_size= »0″ shift_y= »0″ z_index= »0″ uncode_shortcode_id= »325209″][vc_column_inner width= »1/4″][/vc_column_inner][vc_column_inner column_width_percent= »100″ gutter_size= »2″ override_padding= »yes » column_padding= »4″ style= »dark » back_color= »color-wayh » overlay_alpha= »50″ shift_x= »0″ shift_y= »0″ shift_y_down= »0″ z_index= »0″ medium_width= »0″ mobile_width= »0″ width= »1/2″ uncode_shortcode_id= »100406″ back_color_type= »uncode-palette »][vc_icon icon= »fa fa-warning3″ icon_color= »accent » size= »fa-4x » align= »left » title= »Important » uncode_shortcode_id= »152432″ icon_color_type= »uncode-palette »]Licence FFCAM obligatoire.[/vc_icon][vc_single_image media= »10228″ media_width_percent= »75″ alignment= »center » uncode_shortcode_id= »175174″][/vc_column_inner][vc_column_inner width= »1/4″][/vc_column_inner][/vc_row_inner][/vc_column][/vc_row][vc_row row_height_percent= »50″ override_padding= »yes » h_padding= »2″ top_padding= »5″ bottom_padding= »5″ back_image= »9998″ back_position= »center center » parallax= »yes » overlay_color= »color-nhtu » overlay_alpha= »90″ gutter_size= »3″ column_width_percent= »100″ shift_y= »0″ z_index= »0″ content_parallax= »0″ uncode_shortcode_id= »104803″ overlay_color_type= »uncode-palette »][vc_column column_width_use_pixel= »yes » position_vertical= »middle » align_horizontal= »align_center » gutter_size= »3″ style= »dark » overlay_alpha= »50″ shift_x= »0″ shift_y= »0″ shift_y_down= »0″ z_index= »0″ medium_width= »0″ mobile_width= »0″ width= »1/1″ column_width_pixel= »900″ uncode_shortcode_id= »191567″][vc_custom_heading text_color= »accent » heading_semantic= »h6″ text_size= »h6″ text_transform= »uppercase » uncode_shortcode_id= »111696″ text_color_type= »uncode-palette »]Intéressé.e ?[/vc_custom_heading][vc_custom_heading heading_semantic= »h3″ text_size= »h1″ uncode_shortcode_id= »521610″]Contacte moi sur Slack[/vc_custom_heading][/vc_column][/vc_row][vc_row][vc_column width= »1/1″][vc_empty_space empty_h= »3″][/vc_column][/vc_row]
URL:https://grimpeglisse.org/sortie-sejour/we-decouverte-alpinisme-rocheux/
LOCATION:Grenoble
CATEGORIES:Alpinisme
ATTACH;FMTTYPE=image/jpeg:https://grimpeglisse.org/wp-content/uploads/2025/08/IMG-20250729-WA0025.jpg
END:VEVENT
BEGIN:VEVENT
DTSTART;VALUE=DATE:20250928
DTEND;VALUE=DATE:20250929
DTSTAMP:20260423T065940
CREATED:20250918T082704Z
LAST-MODIFIED:20250918T142550Z
UID:11619-1759017600-1759103999@grimpeglisse.org
SUMMARY:Escalade aux Andelys
DESCRIPTION:[vc_row row_height_percent= »50″ override_padding= »yes » h_padding= »2″ top_padding= »5″ bottom_padding= »5″ back_color= »color-wayh » back_image= »11623″ overlay_color= »color-nhtu » overlay_alpha= »80″ gutter_size= »3″ column_width_percent= »100″ shift_y= »0″ z_index= »0″ content_parallax= »0″ uncode_shortcode_id= »190719″ back_color_type= »uncode-palette » overlay_color_type= »uncode-palette »][vc_column column_width_use_pixel= »yes » position_vertical= »middle » align_horizontal= »align_center » gutter_size= »3″ style= »dark » overlay_alpha= »50″ shift_x= »0″ shift_y= »0″ shift_y_down= »0″ z_index= »0″ medium_width= »0″ mobile_width= »0″ width= »1/1″ column_width_pixel= »900″][vc_custom_heading text_color= »accent » heading_semantic= »h6″ text_size= »h6″ text_transform= »uppercase » uncode_shortcode_id= »660176″ text_color_type= »uncode-palette »]Escalade en extérieur aux Andelys[/vc_custom_heading][vc_custom_heading heading_semantic= »h3″ text_size= »h1″ uncode_shortcode_id= »531958″]Escalade dans les belles falaises normandes à côté de Paris[/vc_custom_heading][vc_row_inner row_inner_height_percent= »0″ overlay_alpha= »50″ equal_height= »yes » gutter_size= »0″ shift_y= »0″ z_index= »0″ uncode_shortcode_id= »325209″][vc_column_inner width= »1/4″][/vc_column_inner][vc_column_inner column_width_percent= »100″ gutter_size= »2″ override_padding= »yes » column_padding= »0″ style= »dark » overlay_alpha= »50″ shift_x= »0″ shift_y= »0″ shift_y_down= »0″ z_index= »0″ medium_width= »0″ mobile_width= »0″ width= »1/2″ uncode_shortcode_id= »799260″][vc_single_image media= »10157″ media_width_percent= »75″ alignment= »center » uncode_shortcode_id= »621857″][/vc_column_inner][vc_column_inner width= »1/4″][/vc_column_inner][/vc_row_inner][/vc_column][/vc_row][vc_row][vc_column width= »1/1″][vc_column_text uncode_shortcode_id= »670654″] \nESCALADE COUENNE LES ANDELYS – 28 SEPTEMBRE- ☀️\nNous vous proposons une sortie d’escalade aux Andelys pour profiter de ses belles falaises blanches qui dominent la Seine dans une ambiance conviviale et en bonne compagnie. La journée sera encadrée et s’adresse à toutes les personnes autonomes en escalade en salle.[/vc_column_text][/vc_column][/vc_row][vc_row unlock_row_content= »yes » row_height_percent= »0″ override_padding= »yes » h_padding= »3″ top_padding= »2″ bottom_padding= »0″ overlay_alpha= »50″ gutter_size= »3″ column_width_percent= »100″ shift_y= »0″ z_index= »0″ content_parallax= »0″ uncode_shortcode_id= »164146″][vc_column column_width_percent= »100″ gutter_size= »3″ override_padding= »yes » column_padding= »5″ style= »light » back_image= »10266″ overlay_color= »color-gyho » overlay_alpha= »85″ radius= »hg » shift_x= »0″ shift_y= »0″ shift_y_down= »0″ z_index= »0″ medium_width= »0″ mobile_width= »0″ width= »1/1″ uncode_shortcode_id= »217126″ overlay_color_type= »uncode-palette »][vc_row_inner row_inner_height_percent= »0″ overlay_alpha= »50″ gutter_size= »2″ shift_y= »0″ z_index= »0″ limit_content= » » uncode_shortcode_id= »209343″][vc_column_inner column_width_percent= »100″ gutter_size= »4″ style= »light » overlay_alpha= »50″ shift_x= »0″ shift_y= »0″ shift_y_down= »0″ z_index= »0″ medium_width= »0″ mobile_width= »0″ width= »8/12″ uncode_shortcode_id= »187603″][vc_custom_heading uncode_shortcode_id= »193365″]Niveau technique et physique[/vc_custom_heading][/vc_column_inner][vc_column_inner column_width_percent= »100″ position_vertical= »justify » gutter_size= »3″ overlay_alpha= »50″ shift_x= »0″ shift_y= »0″ shift_y_down= »0″ z_index= »0″ medium_width= »0″ mobile_width= »0″ width= »4/12″ uncode_shortcode_id= »138846″][/vc_column_inner][/vc_row_inner][vc_column_text uncode_shortcode_id= »189388″]Endurance : ❤️ – Technicité : ⛰️\n[/vc_column_text][/vc_column][/vc_row][vc_row][vc_column width= »1/1″][vc_empty_space empty_h= »2″][/vc_column][/vc_row][vc_row unlock_row_content= »yes » row_height_percent= »0″ override_padding= »yes » h_padding= »0″ top_padding= »0″ bottom_padding= »0″ back_color= »accent » overlay_alpha= »50″ gutter_size= »0″ column_width_percent= »100″ shift_y= »0″ z_index= »0″ uncode_shortcode_id= »124992″ back_color_type= »uncode-palette »][vc_column column_width_percent= »100″ align_horizontal= »align_center » gutter_size= »3″ style= »dark » overlay_alpha= »50″ shift_x= »0″ shift_y= »0″ shift_y_down= »0″ z_index= »0″ medium_width= »0″ mobile_width= »0″ width= »1/1″ uncode_shortcode_id= »504915″][vc_row_inner row_inner_height_percent= »0″ overlay_alpha= »50″ equal_height= »yes » gutter_size= »0″ shift_y= »0″ z_index= »0″ limit_content= » »][vc_column_inner column_width_percent= »100″ gutter_size= »2″ override_padding= »yes » column_padding= »3″ style= »dark » overlay_alpha= »50″ shift_x= »0″ shift_y= »0″ shift_y_down= »0″ z_index= »0″ medium_width= »0″ mobile_width= »0″ css_animation= »alpha-anim » animation_speed= »1000″ width= »1/3″ uncode_shortcode_id= »181086″][vc_icon icon= »fa fa-map3″ size= »fa-3x » uncode_shortcode_id= »387076″ title= »Lieu »][/vc_icon][vc_column_text text_lead= »yes » uncode_shortcode_id= »119578″]Les Andelys[/vc_column_text][/vc_column_inner][vc_column_inner column_width_percent= »100″ gutter_size= »2″ override_padding= »yes » column_padding= »3″ style= »dark » overlay_color= »color-jevc » overlay_alpha= »5″ shift_x= »0″ shift_y= »0″ shift_y_down= »0″ z_index= »0″ medium_width= »0″ mobile_width= »0″ css_animation= »alpha-anim » animation_speed= »1000″ animation_delay= »200″ width= »1/3″ uncode_shortcode_id= »106134″ overlay_color_type= »uncode-palette »][vc_icon icon= »fa fa-profile-male » size= »fa-3x » uncode_shortcode_id= »816734″ title= »Places disponibles »][/vc_icon][vc_column_text text_lead= »yes » uncode_shortcode_id= »138898″]10 + 2 encadrants[/vc_column_text][/vc_column_inner][vc_column_inner column_width_percent= »100″ gutter_size= »2″ override_padding= »yes » column_padding= »3″ style= »dark » overlay_color= »color-jevc » overlay_alpha= »10″ shift_x= »0″ shift_y= »0″ shift_y_down= »0″ z_index= »0″ medium_width= »0″ mobile_width= »0″ css_animation= »alpha-anim » animation_speed= »1000″ animation_delay= »400″ width= »1/3″ uncode_shortcode_id= »203006″ overlay_color_type= »uncode-palette »][vc_icon icon= »fa fa-wallet » size= »fa-3x » uncode_shortcode_id= »494460″ title= »Coût approximatif »][/vc_icon][vc_column_text text_lead= »yes » uncode_shortcode_id= »101577″]Transport : 25€ (approx)\nAssurance (si pas FFCAM) : 5€\nFormation GGG : 5€[/vc_column_text][/vc_column_inner][/vc_row_inner][/vc_column][/vc_row][vc_row unlock_row_content= »yes » row_height_percent= »0″ override_padding= »yes » h_padding= »0″ top_padding= »0″ bottom_padding= »0″ overlay_alpha= »100″ gutter_size= »3″ column_width_percent= »100″ shift_y= »0″ z_index= »0″ content_parallax= »0″ uncode_shortcode_id= »250640″][vc_column column_width_percent= »100″ position_horizontal= »left » gutter_size= »3″ expand_height= »yes » overlay_alpha= »100″ shift_x= »0″ shift_y= »0″ shift_y_down= »0″ z_index= »0″ medium_width= »0″ mobile_width= »0″ zoom_width= »0″ zoom_height= »0″ width= »1/1″ mobile_height= »360″][vc_column_text uncode_shortcode_id= »654483″][/vc_column_text][/vc_column][/vc_row][vc_row][vc_column width= »1/1″][vc_empty_space empty_h= »2″][/vc_column][/vc_row][vc_row unlock_row_content= »yes » row_height_percent= »0″ override_padding= »yes » h_padding= »0″ top_padding= »0″ bottom_padding= »0″ overlay_alpha= »50″ equal_height= »yes » gutter_size= »0″ column_width_percent= »100″ shift_y= »0″ z_index= »0″ uncode_shortcode_id= »938548″][vc_column column_width_percent= »100″ position_vertical= »middle » gutter_size= »3″ override_padding= »yes » column_padding= »5″ style= »light » back_color= »color-uydo » overlay_alpha= »50″ shift_x= »0″ shift_y= »0″ shift_y_down= »0″ z_index= »0″ medium_width= »0″ mobile_width= »0″ width= »1/2″ uncode_shortcode_id= »956385″ back_color_type= »uncode-palette »][vc_custom_heading heading_semantic= »h6″ text_size= »h6″ text_transform= »uppercase » badge_style= »yes » radius= »sm » uncode_shortcode_id= »131824″ back_color_type= »uncode-solid » back_color_solid= »rgba(255\,255\,255\,0.2) »]à prévoir[/vc_custom_heading][vc_custom_heading heading_semantic= »h3″ text_size= »h1″ uncode_shortcode_id= »200112″]Matériel[/vc_custom_heading][vc_custom_heading heading_semantic= »h4″ text_size= »h4″ text_weight= »400″ uncode_shortcode_id= »100741″] \nMatériel\n\nChaussons\nBaudrier\nCasque\nDescendeur\nMachard\nDégaines\nLonge\nMousquetons\nSangles\n\n[/vc_custom_heading][/vc_column][vc_column column_width_percent= »100″ position_vertical= »middle » align_horizontal= »align_center » gutter_size= »0″ override_padding= »yes » column_padding= »0″ style= »dark » back_color= »accent » overlay_alpha= »50″ shift_x= »0″ shift_y= »0″ shift_y_down= »0″ z_index= »0″ medium_width= »0″ mobile_width= »0″ width= »1/2″ uncode_shortcode_id= »156921″ back_color_type= »uncode-palette »][vc_single_image media= »9998″ media_width_percent= »100″ media_ratio= »sixteen-nine » alignment= »center » uncode_shortcode_id= »571741″][vc_row_inner limit_content= » »][vc_column_inner column_width_percent= »100″ align_horizontal= »align_center » gutter_size= »3″ override_padding= »yes » column_padding= »2″ style= »dark » overlay_alpha= »50″ shift_x= »0″ shift_y= »0″ shift_y_down= »0″ z_index= »0″ medium_width= »0″ mobile_width= »0″ width= »1/1″ uncode_shortcode_id= »143121″][vc_custom_heading uncode_shortcode_id= »159832″]Encadrement[/vc_custom_heading][vc_column_text text_lead= »yes » uncode_shortcode_id= »687388″]Alberto M en encadrement.[/vc_column_text][vc_separator sep_color= » » uncode_shortcode_id= »209870″][vc_custom_heading heading_semantic= »h3″ text_size= »h3″ uncode_shortcode_id= »128352″]Pour toute question :\nalbertom @ grimpeglisse.org[/vc_custom_heading][/vc_column_inner][/vc_row_inner][/vc_column][/vc_row][vc_row][vc_column width= »1/1″][vc_empty_space empty_h= »3″][/vc_column][/vc_row][vc_row row_height_percent= »50″ override_padding= »yes » h_padding= »2″ top_padding= »5″ bottom_padding= »5″ back_image= »9998″ back_position= »center center » parallax= »yes » overlay_color= »color-nhtu » overlay_alpha= »90″ gutter_size= »3″ column_width_percent= »100″ shift_y= »0″ z_index= »0″ content_parallax= »0″ uncode_shortcode_id= »104803″ overlay_color_type= »uncode-palette »][vc_column column_width_use_pixel= »yes » position_vertical= »middle » align_horizontal= »align_center » gutter_size= »3″ style= »dark » overlay_alpha= »50″ shift_x= »0″ shift_y= »0″ shift_y_down= »0″ z_index= »0″ medium_width= »0″ mobile_width= »0″ width= »1/1″ column_width_pixel= »900″ uncode_shortcode_id= »191567″][vc_custom_heading text_color= »accent » heading_semantic= »h6″ text_size= »h6″ text_transform= »uppercase » uncode_shortcode_id= »111696″ text_color_type= »uncode-palette »]Intéressé.e ?[/vc_custom_heading][vc_button border_width= »0″ link= »url:https%3A%2F%2Fwww.helloasso.com%2Fassociations%2Fgroupe-grimpe-et-glisse%2Fevenements%2Fesc-2025-09-28-am-escalade-andelys|target:_blank » uncode_shortcode_id= »172859″]Inscris-toi[/vc_button][/vc_column][/vc_row]
URL:https://grimpeglisse.org/sortie-sejour/escalade-aux-andelys/
LOCATION:Les Andelys\, 27700 Les Andelys\, Les Andelys\, Normandie\, France
CATEGORIES:Escalade SNE
ATTACH;FMTTYPE=image/png:https://grimpeglisse.org/wp-content/uploads/2025/09/Capture-decran-2025-09-18-095753.png
END:VEVENT
END:VCALENDAR