BEGIN:VCALENDAR
VERSION:2.0
PRODID:-//Grimpe &amp; Glisse - ECPv6.15.20//NONSGML v1.0//EN
CALSCALE:GREGORIAN
METHOD:PUBLISH
X-ORIGINAL-URL:https://grimpeglisse.org
X-WR-CALDESC:Évènements pour Grimpe &amp; Glisse
REFRESH-INTERVAL;VALUE=DURATION:PT1H
X-Robots-Tag:noindex
X-PUBLISHED-TTL:PT1H
BEGIN:VTIMEZONE
TZID:Europe/Paris
BEGIN:DAYLIGHT
TZOFFSETFROM:+0100
TZOFFSETTO:+0200
TZNAME:CEST
DTSTART:20240331T010000
END:DAYLIGHT
BEGIN:STANDARD
TZOFFSETFROM:+0200
TZOFFSETTO:+0100
TZNAME:CET
DTSTART:20241027T010000
END:STANDARD
BEGIN:DAYLIGHT
TZOFFSETFROM:+0100
TZOFFSETTO:+0200
TZNAME:CEST
DTSTART:20250330T010000
END:DAYLIGHT
BEGIN:STANDARD
TZOFFSETFROM:+0200
TZOFFSETTO:+0100
TZNAME:CET
DTSTART:20251026T010000
END:STANDARD
BEGIN:DAYLIGHT
TZOFFSETFROM:+0100
TZOFFSETTO:+0200
TZNAME:CEST
DTSTART:20260329T010000
END:DAYLIGHT
BEGIN:STANDARD
TZOFFSETFROM:+0200
TZOFFSETTO:+0100
TZNAME:CET
DTSTART:20261025T010000
END:STANDARD
END:VTIMEZONE
BEGIN:VEVENT
DTSTART;VALUE=DATE:20250827
DTEND;VALUE=DATE:20250901
DTSTAMP:20260423T082501
CREATED:20250407T191250Z
LAST-MODIFIED:20250418T152436Z
UID:10411-1756252800-1756684799@grimpeglisse.org
SUMMARY:Formation Escalade Trad (Terrain d'aventure)
DESCRIPTION:[vc_row row_height_percent= »50″ override_padding= »yes » h_padding= »2″ top_padding= »5″ bottom_padding= »5″ back_color= »color-wayh » back_image= »10260″ overlay_color= »color-nhtu » overlay_alpha= »80″ gutter_size= »3″ column_width_percent= »100″ shift_y= »0″ z_index= »0″ content_parallax= »0″ uncode_shortcode_id= »179178″ back_color_type= »uncode-palette » overlay_color_type= »uncode-palette »][vc_column column_width_use_pixel= »yes » position_vertical= »middle » align_horizontal= »align_center » gutter_size= »3″ style= »dark » overlay_alpha= »50″ shift_x= »0″ shift_y= »0″ shift_y_down= »0″ z_index= »0″ medium_width= »0″ mobile_width= »0″ width= »1/1″ column_width_pixel= »900″][vc_custom_heading text_color= »accent » heading_semantic= »h6″ text_size= »h6″ text_transform= »uppercase » uncode_shortcode_id= »123342″ text_color_type= »uncode-palette »]Escalade Traditionnelle[/vc_custom_heading][vc_custom_heading heading_semantic= »h3″ text_size= »h1″ uncode_shortcode_id= »202236″]Découvre l’escalade traditionnelle en terrain d’aventure avec GGG[/vc_custom_heading][vc_row_inner row_inner_height_percent= »0″ overlay_alpha= »50″ equal_height= »yes » gutter_size= »0″ shift_y= »0″ z_index= »0″ uncode_shortcode_id= »325209″][vc_column_inner width= »1/4″][/vc_column_inner][vc_column_inner column_width_percent= »100″ gutter_size= »2″ override_padding= »yes » column_padding= »0″ style= »dark » overlay_alpha= »50″ shift_x= »0″ shift_y= »0″ shift_y_down= »0″ z_index= »0″ medium_width= »0″ mobile_width= »0″ width= »1/2″ uncode_shortcode_id= »799260″][vc_single_image media= »10157″ media_width_percent= »75″ alignment= »center » uncode_shortcode_id= »621857″][/vc_column_inner][vc_column_inner width= »1/4″][/vc_column_inner][/vc_row_inner][/vc_column][/vc_row][vc_row][vc_column width= »1/1″][vc_column_text uncode_shortcode_id= »847771″] \nFormation Escalade Trad – Du 27 au 31 août 2025 🏔️🧗‍♂️\nRejoignez-nous dans cette formation en terrain d’aventure où l’on apprendra les techniques pour grimper en sécurité dans des falaises non-équipées. \n🔹 5 jours d’apprentissage de l’escalade sur coinceurs🔹 Encadrement fourni par un diplôme d’état spécialiste de la discipline🔹 Couenne et grande voie \n[/vc_column_text][/vc_column][/vc_row][vc_row unlock_row_content= »yes » row_height_percent= »0″ override_padding= »yes » h_padding= »3″ top_padding= »2″ bottom_padding= »0″ overlay_alpha= »50″ gutter_size= »3″ column_width_percent= »100″ shift_y= »0″ z_index= »0″ content_parallax= »0″ uncode_shortcode_id= »164146″][vc_column column_width_percent= »100″ gutter_size= »3″ override_padding= »yes » column_padding= »5″ style= »light » back_image= »10266″ overlay_color= »color-gyho » overlay_alpha= »85″ radius= »hg » shift_x= »0″ shift_y= »0″ shift_y_down= »0″ z_index= »0″ medium_width= »0″ mobile_width= »0″ width= »1/1″ uncode_shortcode_id= »217126″ overlay_color_type= »uncode-palette »][vc_row_inner row_inner_height_percent= »0″ overlay_alpha= »50″ gutter_size= »2″ shift_y= »0″ z_index= »0″ limit_content= » » uncode_shortcode_id= »209343″][vc_column_inner column_width_percent= »100″ gutter_size= »4″ style= »light » overlay_alpha= »50″ shift_x= »0″ shift_y= »0″ shift_y_down= »0″ z_index= »0″ medium_width= »0″ mobile_width= »0″ width= »8/12″ uncode_shortcode_id= »187603″][vc_custom_heading uncode_shortcode_id= »193365″]Niveau technique et physique[/vc_custom_heading][/vc_column_inner][vc_column_inner column_width_percent= »100″ position_vertical= »justify » gutter_size= »3″ overlay_alpha= »50″ shift_x= »0″ shift_y= »0″ shift_y_down= »0″ z_index= »0″ medium_width= »0″ mobile_width= »0″ width= »4/12″ uncode_shortcode_id= »138846″][/vc_column_inner][/vc_row_inner][vc_column_text uncode_shortcode_id= »395213″] \nEndurance : ❤️❤️ – Technicité : ⛰️⛰️⛰️ \nPrérequis :\n\nAutonomie et expérience en falaise et GV équipé. Niveau de 5c/6a en falaise.➡️ S’il vous avez des questions\, contactez l’organisateur. \n\n[/vc_column_text][/vc_column][/vc_row][vc_row unlock_row_content= »yes » row_height_percent= »100″ override_padding= »yes » h_padding= »2″ top_padding= »2″ bottom_padding= »2″ overlay_alpha= »50″ gutter_size= »2″ column_width_use_pixel= »yes » shift_y= »0″ z_index= »0″ content_parallax= »0″ uncode_shortcode_id= »149194″ column_width_pixel= »1500″][vc_column column_width_percent= »100″ position_vertical= »justify » gutter_size= »3″ override_padding= »yes » column_padding= »3″ style= »dark » back_color= »accent » overlay_alpha= »50″ radius= »xl » shift_x= »0″ shift_y= »0″ shift_y_down= »0″ z_index= »0″ medium_width= »0″ mobile_width= »0″ width= »1/2″ uncode_shortcode_id= »190514″ back_color_type= »uncode-palette »][vc_custom_heading heading_semantic= »h3″ text_transform= »uppercase » uncode_shortcode_id= »170869″]Programme[/vc_custom_heading][vc_row_inner limit_content= » »][vc_column_inner column_width_percent= »100″ gutter_size= »3″ style= »dark » overlay_alpha= »50″ shift_x= »0″ shift_y= »0″ shift_y_down= »0″ z_index= »0″ medium_width= »0″ align_mobile= »align_center_mobile » mobile_width= »0″ width= »1/1″ uncode_shortcode_id= »190492″][vc_column_text uncode_shortcode_id= »185121″] \nMercredi 27 août\nJournée sur site de couenne fissuré et équipéApprentissage de la gestuelle fissure\, découverte des différents types de coinceurs et de leurs spécificitésParcours des voies en “blackbean” \n[/vc_column_text][vc_separator sep_color= »\,Default »][vc_column_text uncode_shortcode_id= »142063″] \nJeudi 28 août\nPoursuite du travail de la veille: escalade en fissure et pose de protectionsAteliers relais sur coinceurs et préparation aux spécificités de la grande voie trad \n[/vc_column_text][vc_separator sep_color= »\,Default »][vc_column_text uncode_shortcode_id= »677250″] \nVendredi 29 août\nGrande voie trad. Grosse journée 🙂 \n[/vc_column_text][vc_separator sep_color= »\,Default »][vc_column_text uncode_shortcode_id= »159581″] \nSamedi 30 août\nGrasse matinée et après midi couenne (ou rivière) \n[/vc_column_text][vc_separator sep_color= »\,Default »][vc_column_text uncode_shortcode_id= »113504″] \nDimanche 31 août\nGrande voie trad \n[/vc_column_text][/vc_column_inner][/vc_row_inner][/vc_column][vc_column column_width_percent= »100″ position_vertical= »justify » gutter_size= »3″ back_image= »10012″ back_position= »center bottom » overlay_alpha= »50″ radius= »xl » shift_x= »0″ shift_y= »0″ shift_y_down= »0″ z_index= »0″ medium_width= »0″ mobile_width= »0″ width= »1/2″ uncode_shortcode_id= »633285″ mobile_height= »33vh »][/vc_column][/vc_row][vc_row unlock_row_content= »yes » row_height_percent= »0″ override_padding= »yes » h_padding= »0″ top_padding= »0″ bottom_padding= »0″ back_color= »accent » overlay_alpha= »50″ gutter_size= »0″ column_width_percent= »100″ shift_y= »0″ z_index= »0″ uncode_shortcode_id= »124992″ back_color_type= »uncode-palette »][vc_column column_width_percent= »100″ align_horizontal= »align_center » gutter_size= »3″ style= »dark » overlay_alpha= »50″ shift_x= »0″ shift_y= »0″ shift_y_down= »0″ z_index= »0″ medium_width= »0″ mobile_width= »0″ width= »1/1″ uncode_shortcode_id= »504915″][vc_row_inner row_inner_height_percent= »0″ overlay_alpha= »50″ equal_height= »yes » gutter_size= »0″ shift_y= »0″ z_index= »0″ limit_content= » »][vc_column_inner column_width_percent= »100″ gutter_size= »2″ override_padding= »yes » column_padding= »3″ style= »dark » overlay_alpha= »50″ shift_x= »0″ shift_y= »0″ shift_y_down= »0″ z_index= »0″ medium_width= »0″ mobile_width= »0″ css_animation= »alpha-anim » animation_speed= »1000″ width= »1/3″ uncode_shortcode_id= »181086″][vc_icon icon= »fa fa-map3″ size= »fa-3x » uncode_shortcode_id= »387076″ title= »Lieu »][/vc_icon][vc_column_text text_lead= »yes » uncode_shortcode_id= »181748″] \nLozère \n[/vc_column_text][/vc_column_inner][vc_column_inner column_width_percent= »100″ gutter_size= »2″ override_padding= »yes » column_padding= »3″ style= »dark » overlay_color= »color-jevc » overlay_alpha= »5″ shift_x= »0″ shift_y= »0″ shift_y_down= »0″ z_index= »0″ medium_width= »0″ mobile_width= »0″ css_animation= »alpha-anim » animation_speed= »1000″ animation_delay= »200″ width= »1/3″ uncode_shortcode_id= »106134″ overlay_color_type= »uncode-palette »][vc_icon icon= »fa fa-profile-male » size= »fa-3x » uncode_shortcode_id= »816734″ title= »Places disponibles »][/vc_icon][vc_column_text text_lead= »yes » uncode_shortcode_id= »129964″] \n5 participant.e.s \n[/vc_column_text][/vc_column_inner][vc_column_inner column_width_percent= »100″ gutter_size= »2″ override_padding= »yes » column_padding= »3″ style= »dark » overlay_color= »color-jevc » overlay_alpha= »10″ shift_x= »0″ shift_y= »0″ shift_y_down= »0″ z_index= »0″ medium_width= »0″ mobile_width= »0″ css_animation= »alpha-anim » animation_speed= »1000″ animation_delay= »400″ width= »1/3″ uncode_shortcode_id= »203006″ overlay_color_type= »uncode-palette »][vc_icon icon= »fa fa-wallet » size= »fa-3x » uncode_shortcode_id= »494460″ title= »Coût approximatif »][/vc_icon][vc_column_text text_lead= »yes » uncode_shortcode_id= »626134″] \nEncadrant: 380€Logement: 170€ Nourriture (estimation): 60€ Total estimé: 610€ + transport à prévoir en plus \n[/vc_column_text][/vc_column_inner][/vc_row_inner][/vc_column][/vc_row][vc_row unlock_row_content= »yes » row_height_percent= »0″ override_padding= »yes » h_padding= »0″ top_padding= »0″ bottom_padding= »0″ overlay_alpha= »100″ gutter_size= »3″ column_width_percent= »100″ shift_y= »0″ z_index= »0″ content_parallax= »0″ uncode_shortcode_id= »250640″][vc_column column_width_percent= »100″ position_horizontal= »left » gutter_size= »3″ expand_height= »yes » overlay_alpha= »100″ shift_x= »0″ shift_y= »0″ shift_y_down= »0″ z_index= »0″ medium_width= »0″ mobile_width= »0″ zoom_width= »0″ zoom_height= »0″ width= »1/1″ mobile_height= »360″][vc_column_text uncode_shortcode_id= »168859″][/vc_column_text][/vc_column][/vc_row][vc_row][vc_column width= »1/1″][vc_empty_space empty_h= »2″][/vc_column][/vc_row][vc_row unlock_row_content= »yes » row_height_percent= »0″ override_padding= »yes » h_padding= »0″ top_padding= »0″ bottom_padding= »0″ overlay_alpha= »50″ equal_height= »yes » gutter_size= »0″ column_width_percent= »100″ shift_y= »0″ z_index= »0″ uncode_shortcode_id= »938548″][vc_column column_width_percent= »100″ position_vertical= »middle » gutter_size= »3″ override_padding= »yes » column_padding= »5″ style= »light » back_color= »color-uydo » overlay_alpha= »50″ shift_x= »0″ shift_y= »0″ shift_y_down= »0″ z_index= »0″ medium_width= »0″ mobile_width= »0″ width= »1/2″ uncode_shortcode_id= »956385″ back_color_type= »uncode-palette »][vc_custom_heading heading_semantic= »h6″ text_size= »h6″ text_transform= »uppercase » badge_style= »yes » radius= »sm » uncode_shortcode_id= »131824″ back_color_type= »uncode-solid » back_color_solid= »rgba(255\,255\,255\,0.2) »]à prévoir[/vc_custom_heading][vc_custom_heading heading_semantic= »h3″ text_size= »h1″ uncode_shortcode_id= »200112″]Matériel[/vc_custom_heading][vc_custom_heading heading_semantic= »h4″ text_size= »h4″ text_weight= »400″ uncode_shortcode_id= »100741″] \nMatériel\n\nChaussons\nBaudrier\nCasque\nDescendeur\nMachard\nDégaines\nLonge\nMousquetons\nSangles\n\n[/vc_custom_heading][/vc_column][vc_column column_width_percent= »100″ position_vertical= »middle » align_horizontal= »align_center » gutter_size= »0″ override_padding= »yes » column_padding= »0″ style= »dark » back_color= »accent » overlay_alpha= »50″ shift_x= »0″ shift_y= »0″ shift_y_down= »0″ z_index= »0″ medium_width= »0″ mobile_width= »0″ width= »1/2″ uncode_shortcode_id= »156921″ back_color_type= »uncode-palette »][vc_single_image media= »9998″ media_width_percent= »100″ media_ratio= »sixteen-nine » alignment= »center » uncode_shortcode_id= »571741″][vc_row_inner limit_content= » »][vc_column_inner column_width_percent= »100″ align_horizontal= »align_center » gutter_size= »3″ override_padding= »yes » column_padding= »2″ style= »dark » overlay_alpha= »50″ shift_x= »0″ shift_y= »0″ shift_y_down= »0″ z_index= »0″ medium_width= »0″ mobile_width= »0″ width= »1/1″ uncode_shortcode_id= »143121″][vc_custom_heading uncode_shortcode_id= »159832″]Encadrement[/vc_custom_heading][vc_column_text text_lead= »yes » uncode_shortcode_id= »659913″] \nAlberto M en encadrant. \n[/vc_column_text][vc_separator sep_color= » » uncode_shortcode_id= »209870″][vc_custom_heading heading_semantic= »h3″ text_size= »h3″ uncode_shortcode_id= »135001″]Pour toute question :albertom @grimpeglisse.org[/vc_custom_heading][/vc_column_inner][/vc_row_inner][/vc_column][/vc_row][vc_row unlock_row_content= »yes » row_height_percent= »50″ override_padding= »yes » h_padding= »0″ top_padding= »3″ bottom_padding= »0″ overlay_alpha= »50″ equal_height= »yes » gutter_size= »0″ column_width_percent= »100″ shift_y= »0″ z_index= »0″ content_parallax= »0″ uncode_shortcode_id= »705376″][vc_column column_width_percent= »100″ gutter_size= »0″ override_padding= »yes » column_padding= »2″ overlay_alpha= »50″ shift_x= »0″ shift_y= »0″ shift_y_down= »0″ z_index= »0″ medium_width= »0″ mobile_width= »0″ width= »1/1″ uncode_shortcode_id= »355714″][vc_row_inner row_inner_height_percent= »0″ overlay_alpha= »50″ equal_height= »yes » gutter_size= »0″ shift_y= »0″ z_index= »0″ uncode_shortcode_id= »325209″][vc_column_inner width= »1/4″][/vc_column_inner][vc_column_inner column_width_percent= »100″ gutter_size= »2″ override_padding= »yes » column_padding= »4″ style= »dark » back_color= »color-wayh » overlay_alpha= »50″ shift_x= »0″ shift_y= »0″ shift_y_down= »0″ z_index= »0″ medium_width= »0″ mobile_width= »0″ width= »1/2″ uncode_shortcode_id= »100406″ back_color_type= »uncode-palette »][vc_icon icon= »fa fa-warning3″ icon_color= »accent » size= »fa-4x » align= »left » title= »Important » uncode_shortcode_id= »152432″ icon_color_type= »uncode-palette »]Licence FFCAM obligatoire.[/vc_icon][vc_single_image media= »10228″ media_width_percent= »75″ alignment= »center » uncode_shortcode_id= »175174″][/vc_column_inner][vc_column_inner width= »1/4″][/vc_column_inner][/vc_row_inner][/vc_column][/vc_row][vc_row row_height_percent= »50″ override_padding= »yes » h_padding= »2″ top_padding= »5″ bottom_padding= »5″ back_image= »9998″ back_position= »center center » parallax= »yes » overlay_color= »color-nhtu » overlay_alpha= »90″ gutter_size= »3″ column_width_percent= »100″ shift_y= »0″ z_index= »0″ content_parallax= »0″ uncode_shortcode_id= »104803″ overlay_color_type= »uncode-palette »][vc_column column_width_use_pixel= »yes » position_vertical= »middle » align_horizontal= »align_center » gutter_size= »3″ style= »dark » overlay_alpha= »50″ shift_x= »0″ shift_y= »0″ shift_y_down= »0″ z_index= »0″ medium_width= »0″ mobile_width= »0″ width= »1/1″ column_width_pixel= »900″ uncode_shortcode_id= »191567″][vc_custom_heading text_color= »accent » heading_semantic= »h6″ text_size= »h6″ text_transform= »uppercase » uncode_shortcode_id= »111696″ text_color_type= »uncode-palette »]Intéressé.e ?[/vc_custom_heading][vc_custom_heading heading_semantic= »h3″ text_size= »h1″ uncode_shortcode_id= »397589″]Inscris-toi sur le formulaire[/vc_custom_heading][vc_button outline= »yes » border_width= »0″ link= »url:https%3A%2F%2Fforms.gle%2FeftfLD9S6r6dZoA5A » uncode_shortcode_id= »553931″]Par ici[/vc_button][/vc_column][/vc_row][vc_row][vc_column width= »1/1″][vc_empty_space empty_h= »3″][/vc_column][/vc_row]
URL:https://grimpeglisse.org/sortie-sejour/2025-08-formation-escalade-trad/
CATEGORIES:Escalade SNE
ATTACH;FMTTYPE=image/jpeg:https://grimpeglisse.org/wp-content/uploads/2025/04/trad-scaled.jpg
END:VEVENT
END:VCALENDAR