BEGIN:VCALENDAR
VERSION:2.0
PRODID:-//Grimpe &amp; Glisse - ECPv6.15.20//NONSGML v1.0//EN
CALSCALE:GREGORIAN
METHOD:PUBLISH
X-ORIGINAL-URL:https://grimpeglisse.org
X-WR-CALDESC:Évènements pour Grimpe &amp; Glisse
REFRESH-INTERVAL;VALUE=DURATION:PT1H
X-Robots-Tag:noindex
X-PUBLISHED-TTL:PT1H
BEGIN:VTIMEZONE
TZID:Europe/Paris
BEGIN:DAYLIGHT
TZOFFSETFROM:+0100
TZOFFSETTO:+0200
TZNAME:CEST
DTSTART:20240331T010000
END:DAYLIGHT
BEGIN:STANDARD
TZOFFSETFROM:+0200
TZOFFSETTO:+0100
TZNAME:CET
DTSTART:20241027T010000
END:STANDARD
BEGIN:DAYLIGHT
TZOFFSETFROM:+0100
TZOFFSETTO:+0200
TZNAME:CEST
DTSTART:20250330T010000
END:DAYLIGHT
BEGIN:STANDARD
TZOFFSETFROM:+0200
TZOFFSETTO:+0100
TZNAME:CET
DTSTART:20251026T010000
END:STANDARD
BEGIN:DAYLIGHT
TZOFFSETFROM:+0100
TZOFFSETTO:+0200
TZNAME:CEST
DTSTART:20260329T010000
END:DAYLIGHT
BEGIN:STANDARD
TZOFFSETFROM:+0200
TZOFFSETTO:+0100
TZNAME:CET
DTSTART:20261025T010000
END:STANDARD
END:VTIMEZONE
BEGIN:VEVENT
DTSTART;VALUE=DATE:20250820
DTEND;VALUE=DATE:20250826
DTSTAMP:20260423T082450
CREATED:20250410T174933Z
LAST-MODIFIED:20250801T192024Z
UID:10689-1755648000-1756166399@grimpeglisse.org
SUMMARY:Canyoning à Saint-Claude [COMPLET]
DESCRIPTION:[vc_row][vc_column width= »1/1″][vc_column_text uncode_shortcode_id= »502470″] \nJe vous propose une sortie canyoning du 20 au 25 août à Saint-Claude\, dans le Jura.\nNous serons hébergés au camping Le Martinet. Il est possible de louer sur place le matériel manquant\, donc pas de souci si vous n’êtes pas entièrement équipés.\n Planning\n\n20 & 21 août : journées réservées aux débutants\n22 au 25 août : pour celles et ceux ayant déjà fait au moins une sortie canyoning\n\n Il est tout à fait possible de participer à l’ensemble du séjour. \n 8 places disponibles par jour.\n Si vous souhaitez vous inscrire\, envoyez-moi un message privé avec vos dates d’arrivée et de départ.\nEt pas d’inquiétude si vous ne pouvez pas être là cette fois : d’autres sorties auront lieu dans l’année\, notamment autour de Grenoble ou dans les hauteurs de Nice (dates à venir).\n\nÀ bientôt dans les vasques !\n[/vc_column_text][/vc_column][/vc_row][vc_row unlock_row_content= »yes » row_height_percent= »0″ override_padding= »yes » h_padding= »0″ top_padding= »0″ bottom_padding= »0″ back_color= »accent » overlay_alpha= »50″ gutter_size= »0″ column_width_percent= »100″ shift_y= »0″ z_index= »0″ uncode_shortcode_id= »124992″ back_color_type= »uncode-palette »][vc_column column_width_percent= »100″ align_horizontal= »align_center » gutter_size= »3″ style= »dark » overlay_alpha= »50″ shift_x= »0″ shift_y= »0″ shift_y_down= »0″ z_index= »0″ medium_width= »0″ mobile_width= »0″ width= »1/1″ uncode_shortcode_id= »504915″][vc_row_inner row_inner_height_percent= »0″ overlay_alpha= »50″ equal_height= »yes » gutter_size= »0″ shift_y= »0″ z_index= »0″ limit_content= » »][vc_column_inner column_width_percent= »100″ gutter_size= »2″ override_padding= »yes » column_padding= »3″ style= »dark » overlay_alpha= »50″ shift_x= »0″ shift_y= »0″ shift_y_down= »0″ z_index= »0″ medium_width= »0″ mobile_width= »0″ css_animation= »alpha-anim » animation_speed= »1000″ width= »1/3″ uncode_shortcode_id= »181086″][vc_icon icon= »fa fa-map3″ size= »fa-3x » uncode_shortcode_id= »387076″ title= »Lieu »][/vc_icon][vc_column_text text_lead= »yes » uncode_shortcode_id= »592206″]Saint-Claude\, Jura[/vc_column_text][/vc_column_inner][vc_column_inner column_width_percent= »100″ gutter_size= »2″ override_padding= »yes » column_padding= »3″ style= »dark » overlay_color= »color-jevc » overlay_alpha= »5″ shift_x= »0″ shift_y= »0″ shift_y_down= »0″ z_index= »0″ medium_width= »0″ mobile_width= »0″ css_animation= »alpha-anim » animation_speed= »1000″ animation_delay= »200″ width= »1/3″ uncode_shortcode_id= »106134″ overlay_color_type= »uncode-palette »][vc_icon icon= »fa fa-profile-male » size= »fa-3x » uncode_shortcode_id= »816734″ title= »Places disponibles »][/vc_icon][vc_column_text text_lead= »yes » uncode_shortcode_id= »984593″]8 personnes par jour[/vc_column_text][/vc_column_inner][vc_column_inner column_width_percent= »100″ gutter_size= »2″ override_padding= »yes » column_padding= »3″ style= »dark » overlay_color= »color-jevc » overlay_alpha= »10″ shift_x= »0″ shift_y= »0″ shift_y_down= »0″ z_index= »0″ medium_width= »0″ mobile_width= »0″ css_animation= »alpha-anim » animation_speed= »1000″ animation_delay= »400″ width= »1/3″ uncode_shortcode_id= »203006″ overlay_color_type= »uncode-palette »][vc_icon icon= »fa fa-wallet » size= »fa-3x » uncode_shortcode_id= »494460″ title= »Coût approximatif »][/vc_icon][vc_column_text text_lead= »yes » uncode_shortcode_id= »621078″]50€ par jour (hébergement\, transport sur place\, nourriture)\nLocation de matériel à prévoir en plus[/vc_column_text][/vc_column_inner][/vc_row_inner][/vc_column][/vc_row][vc_row unlock_row_content= »yes » row_height_percent= »0″ override_padding= »yes » h_padding= »0″ top_padding= »0″ bottom_padding= »0″ overlay_alpha= »100″ gutter_size= »3″ column_width_percent= »100″ shift_y= »0″ z_index= »0″ content_parallax= »0″ uncode_shortcode_id= »250640″][vc_column column_width_percent= »100″ position_horizontal= »left » gutter_size= »3″ expand_height= »yes » overlay_alpha= »100″ shift_x= »0″ shift_y= »0″ shift_y_down= »0″ z_index= »0″ medium_width= »0″ mobile_width= »0″ zoom_width= »0″ zoom_height= »0″ width= »1/1″ mobile_height= »360″][vc_column_text uncode_shortcode_id= »181990″][/vc_column_text][/vc_column][/vc_row][vc_row unlock_row_content= »yes » row_height_percent= »0″ override_padding= »yes » h_padding= »2″ top_padding= »3″ bottom_padding= »3″ overlay_alpha= »50″ gutter_size= »2″ column_width_percent= »100″ shift_y= »0″ z_index= »0″ mobile_visibility= »yes » content_parallax= »0″ uncode_shortcode_id= »841256″][vc_column column_width_percent= »100″ gutter_size= »3″ overlay_alpha= »50″ shift_x= »0″ shift_y= »0″ shift_y_down= »0″ z_index= »0″ medium_width= »4″ mobile_width= »4″ width= »1/4″][vc_single_image media= »10710″ media_width_percent= »100″ media_ratio= »three-four » alignment= »center » advanced= »yes » media_items= »media|original » media_overlay_color= »color-wayh » media_overlay_opacity= »20″ media_overlay_visible= »yes » media_overlay_anim= »no » media_text_visible= »yes » media_text_anim= »no » media_h_align= »center » media_v_position= »bottom » media_h_position= »center » media_padding= »3″ media_title_dimension= »h3″ single_image_anim_move= »yes » media_title_custom= »Alpinisme & Cascade de Glace » uncode_shortcode_id= »134161″ media_overlay_color_type= »uncode-palette »][/vc_column][vc_column column_width_percent= »100″ gutter_size= »3″ overlay_alpha= »50″ shift_x= »0″ shift_y= »0″ shift_y_down= »0″ z_index= »0″ medium_width= »4″ mobile_width= »4″ width= »1/4″][vc_single_image media= »10711″ media_width_percent= »100″ media_ratio= »three-four » alignment= »center » advanced= »yes » media_items= »media|original » media_overlay_color= »color-wayh » media_overlay_opacity= »20″ media_overlay_visible= »yes » media_overlay_anim= »no » media_text_visible= »yes » media_text_anim= »no » media_h_align= »center » media_v_position= »bottom » media_h_position= »center » media_padding= »3″ media_title_dimension= »h3″ single_image_anim_move= »yes » media_title_custom= »Canyoning » uncode_shortcode_id= »157741″ media_overlay_color_type= »uncode-palette »][/vc_column][vc_column column_width_percent= »100″ gutter_size= »3″ overlay_alpha= »50″ shift_x= »0″ shift_y= »0″ shift_y_down= »0″ z_index= »0″ medium_width= »4″ mobile_width= »4″ width= »1/4″][vc_single_image media= »10709″ media_width_percent= »100″ media_ratio= »three-four » alignment= »center » advanced= »yes » media_items= »media|original » media_overlay_color= »color-wayh » media_overlay_opacity= »20″ media_overlay_visible= »yes » media_overlay_anim= »no » media_text_visible= »yes » media_text_anim= »no » media_h_align= »center » media_v_position= »bottom » media_h_position= »center » media_padding= »3″ media_title_dimension= »h3″ single_image_anim_move= »yes » media_title_custom= »Escalade en Salle » uncode_shortcode_id= »500560″ media_overlay_color_type= »uncode-palette »][/vc_column][vc_column column_width_percent= »100″ gutter_size= »3″ overlay_alpha= »50″ shift_x= »0″ shift_y= »0″ shift_y_down= »0″ z_index= »0″ medium_width= »4″ mobile_width= »4″ width= »1/4″][vc_single_image media= »10712″ media_width_percent= »100″ media_ratio= »three-four » alignment= »center » advanced= »yes » media_items= »media|original » media_overlay_color= »color-wayh » media_overlay_opacity= »20″ media_overlay_visible= »yes » media_overlay_anim= »no » media_text_visible= »yes » media_text_anim= »no » media_h_align= »center » media_v_position= »bottom » media_h_position= »center » media_padding= »3″ media_title_dimension= »h3″ single_image_anim_move= »yes » media_title_custom= »Escalade en Site Naturel » uncode_shortcode_id= »933550″ media_overlay_color_type= »uncode-palette »][/vc_column][/vc_row][vc_row row_height_percent= »0″ overlay_alpha= »50″ gutter_size= »3″ column_width_percent= »100″ shift_y= »0″ z_index= »0″ desktop_visibility= »yes » medium_visibility= »yes » content_parallax= »0″ uncode_shortcode_id= »573077″][vc_column width= »1/1″][vc_single_image media= »10710″ media_width_percent= »100″ media_ratio= »three-four » alignment= »center » advanced= »yes » media_items= »media|original » media_overlay_color= »color-wayh » media_overlay_opacity= »20″ media_overlay_visible= »yes » media_overlay_anim= »no » media_text_visible= »yes » media_text_anim= »no » media_h_align= »center » media_v_position= »bottom » media_h_position= »center » media_padding= »3″ media_title_dimension= »h3″ single_image_anim_move= »yes » media_title_custom= »Alpinisme & Cascade de Glace » uncode_shortcode_id= »134161″ media_overlay_color_type= »uncode-palette »][vc_single_image media= »10711″ media_width_percent= »100″ media_ratio= »three-four » alignment= »center » advanced= »yes » media_items= »media|original » media_overlay_color= »color-wayh » media_overlay_opacity= »20″ media_overlay_visible= »yes » media_overlay_anim= »no » media_text_visible= »yes » media_text_anim= »no » media_h_align= »center » media_v_position= »bottom » media_h_position= »center » media_padding= »3″ media_title_dimension= »h3″ single_image_anim_move= »yes » media_title_custom= »Canyoning » uncode_shortcode_id= »157741″ media_overlay_color_type= »uncode-palette »][vc_single_image media= »10709″ media_width_percent= »100″ media_ratio= »three-four » alignment= »center » advanced= »yes » media_items= »media|original » media_overlay_color= »color-wayh » media_overlay_opacity= »20″ media_overlay_visible= »yes » media_overlay_anim= »no » media_text_visible= »yes » media_text_anim= »no » media_h_align= »center » media_v_position= »bottom » media_h_position= »center » media_padding= »3″ media_title_dimension= »h3″ single_image_anim_move= »yes » media_title_custom= »Escalade en Salle » uncode_shortcode_id= »500560″ media_overlay_color_type= »uncode-palette »][vc_single_image media= »10712″ media_width_percent= »100″ media_ratio= »three-four » alignment= »center » advanced= »yes » media_items= »media|original » media_overlay_color= »color-wayh » media_overlay_opacity= »20″ media_overlay_visible= »yes » media_overlay_anim= »no » media_text_visible= »yes » media_text_anim= »no » media_h_align= »center » media_v_position= »bottom » media_h_position= »center » media_padding= »3″ media_title_dimension= »h3″ single_image_anim_move= »yes » media_title_custom= »Escalade en Site Naturel » uncode_shortcode_id= »933550″ media_overlay_color_type= »uncode-palette »][/vc_column][/vc_row][vc_row unlock_row_content= »yes » row_height_percent= »50″ override_padding= »yes » h_padding= »0″ top_padding= »0″ bottom_padding= »0″ overlay_alpha= »50″ equal_height= »yes » gutter_size= »0″ shift_y= »0″][vc_column column_width_percent= »100″ gutter_size= »0″ override_padding= »yes » column_padding= »2″ overlay_alpha= »50″ shift_x= »0″ shift_y= »0″ shift_y_down= »0″ z_index= »0″ medium_width= »0″ mobile_width= »0″ width= »1/1″ uncode_shortcode_id= »355714″][vc_row_inner row_inner_height_percent= »0″ back_color= »color-gyho » overlay_alpha= »50″ gutter_size= »3″ shift_y= »0″ z_index= »0″ uncode_shortcode_id= »197323″ back_color_type= »uncode-palette »][vc_column_inner column_width_percent= »100″ gutter_size= »2″ override_padding= »yes » column_padding= »4″ overlay_alpha= »50″ shift_x= »0″ shift_y= »0″ shift_y_down= »0″ z_index= »0″ medium_width= »0″ mobile_width= »0″ width= »1/1″ uncode_shortcode_id= »199661″][vc_custom_heading heading_semantic= »h3″ text_size= »h1″ uncode_shortcode_id= »173441″]Matériel et équipement requis[/vc_custom_heading][vc_column_text text_lead= »yes » uncode_shortcode_id= »567252″] \n\nCasque\nBaudrier\nLonge\nCombinaison néoprene\nGants (optionnel)\nChaussons néoprene\nChaussure de canyon ou de randonnée\, ou basket\n\n[/vc_column_text][/vc_column_inner][/vc_row_inner][vc_row_inner row_inner_height_percent= »0″ overlay_alpha= »50″ equal_height= »yes » gutter_size= »0″ shift_y= »0″ z_index= »0″ uncode_shortcode_id= »325209″][vc_column_inner column_width_percent= »100″ gutter_size= »2″ override_padding= »yes » column_padding= »4″ style= »dark » back_image= »9998″ overlay_color= »color-nhtu » overlay_alpha= »90″ shift_x= »0″ shift_y= »0″ shift_y_down= »0″ z_index= »0″ medium_width= »0″ mobile_width= »0″ width= »1/2″ uncode_shortcode_id= »148769″ overlay_color_type= »uncode-palette »][vc_icon icon= »fa fa-star-o » icon_color= »accent » size= »fa-4x » align= »left » title= »A savoir » uncode_shortcode_id= »733269″ icon_color_type= »uncode-palette »]Chaque participant s’occupera de son assurance et de louer son matériel si nécessaire.[/vc_icon][/vc_column_inner][vc_column_inner column_width_percent= »100″ gutter_size= »2″ override_padding= »yes » column_padding= »4″ style= »dark » back_color= »color-wayh » overlay_alpha= »50″ shift_x= »0″ shift_y= »0″ shift_y_down= »0″ z_index= »0″ medium_width= »0″ mobile_width= »0″ width= »1/2″ uncode_shortcode_id= »100406″ back_color_type= »uncode-palette »][vc_icon icon= »fa fa-warning3″ icon_color= »accent » size= »fa-4x » align= »left » title= »Important » uncode_shortcode_id= »152432″ icon_color_type= »uncode-palette »]Licence FFCAM obligatoire.[/vc_icon][vc_single_image media= »10228″ media_width_percent= »75″ alignment= »center » uncode_shortcode_id= »175174″][/vc_column_inner][/vc_row_inner][/vc_column][/vc_row][vc_row unlock_row_content= »yes » row_height_percent= »0″ override_padding= »yes » h_padding= »3″ top_padding= »2″ bottom_padding= »2″ overlay_alpha= »50″ gutter_size= »3″ column_width_percent= »100″ shift_y= »0″ z_index= »0″ content_parallax= »0″ uncode_shortcode_id= »109582″][vc_column column_width_percent= »100″ gutter_size= »3″ override_padding= »yes » column_padding= »5″ style= »dark » back_color= »color-wvjs » back_image= »10148″ back_position= »center center » overlay_color= »color-wayh » overlay_alpha= »84″ radius= »hg » shift_x= »0″ shift_y= »0″ shift_y_down= »0″ z_index= »0″ medium_width= »0″ mobile_width= »0″ width= »1/1″ uncode_shortcode_id= »784599″ back_color_type= »uncode-palette » overlay_color_type= »uncode-palette »][vc_row_inner row_inner_height_percent= »0″ overlay_alpha= »50″ gutter_size= »2″ shift_y= »0″ z_index= »0″ limit_content= » » uncode_shortcode_id= »209343″][vc_column_inner column_width_percent= »100″ gutter_size= »4″ style= »dark » overlay_alpha= »50″ shift_x= »0″ shift_y= »0″ shift_y_down= »0″ z_index= »0″ medium_width= »0″ mobile_width= »0″ width= »8/12″ uncode_shortcode_id= »181524″][vc_custom_heading uncode_shortcode_id= »159832″]Encadrement[/vc_custom_heading][/vc_column_inner][vc_column_inner column_width_percent= »100″ position_vertical= »justify » gutter_size= »3″ overlay_alpha= »50″ shift_x= »0″ shift_y= »0″ shift_y_down= »0″ z_index= »0″ medium_width= »0″ mobile_width= »0″ width= »4/12″ uncode_shortcode_id= »138846″][/vc_column_inner][/vc_row_inner][vc_column_text uncode_shortcode_id= »396996″]Encadrante : Pauline N.[/vc_column_text][/vc_column][/vc_row]
URL:https://grimpeglisse.org/sortie-sejour/2025-canyoning-a-saint-claude/
LOCATION:Saint-Claude\, Jura\, France
CATEGORIES:Canyoning
ATTACH;FMTTYPE=image/jpeg:https://grimpeglisse.org/wp-content/uploads/2025/04/canyoning-20240627_123107-expand-1920px-web.jpg
END:VEVENT
BEGIN:VEVENT
DTSTART;VALUE=DATE:20250821
DTEND;VALUE=DATE:20250825
DTSTAMP:20260423T082450
CREATED:20250410T202139Z
LAST-MODIFIED:20250410T202947Z
UID:10729-1755734400-1756079999@grimpeglisse.org
SUMMARY:Alpine Hearts - Women & Queer Climbing Festival
DESCRIPTION:[vc_row][vc_column column_width_percent= »100″ position_vertical= »middle » align_horizontal= »align_center » gutter_size= »3″ overlay_alpha= »50″ shift_x= »0″ shift_y= »0″ shift_y_down= »0″ z_index= »0″ medium_width= »0″ mobile_width= »0″ width= »1/1″ uncode_shortcode_id= »338997″][vc_column_text uncode_shortcode_id= »962052″] \n✨🧗‍♀️ Découvre le festival ALPINE & HEARTS à Göschenen en Suisse 🧗‍♀️✨\n[/vc_column_text][vc_column_text uncode_shortcode_id= »296458″] \nDu 21 au 24 août 2025\, le pittoresque village de Göschenen en Suisse accueillera le festival Alpine Hearts\, un événement dédié aux femmes et aux personnes queer passionnées d’escalade.\nCe rassemblement unique vise à créer un espace sûr et bienveillant pour les grimpeur·euse·s de tous niveaux. \n[/vc_column_text][vc_separator sep_color= » » uncode_shortcode_id= »139959″][vc_column_text uncode_shortcode_id= »353427″] \n🌟 Un espace pour toutes et tous\nLe festival Alpine Hearts est conçu pour accueillir les femmes et les personnes LGBTQ+\, offrant une plateforme où chacun·e peut se sentir représenté·e et soutenu·e. Les allié·e·s sont également les bienvenu·e·s\, reflétant l’engagement du festival envers l’inclusivité et la diversité dans le monde de l’escalade.[/vc_column_text][vc_button border_width= »0″ link= »url:https%3A%2F%2Fsites.google.com%2Fview%2Falpinehearts%2Fhome » uncode_shortcode_id= »121848″]Découvre le site du festival[/vc_button][vc_row_inner][vc_column_inner width= »1/2″][vc_column_text uncode_shortcode_id= »115496″] \n\n\n\n\n\n\n\n\n\n\n\n\nVoir cette publication sur Instagram\n\n\n\n\n\n\n\n\n\n\n\n\n\n\n\n\n\n\n\n\n\n\nUne publication partagée par Women and Queer Climbing Festival (@alpinehearts) \n\n\n[/vc_column_text][/vc_column_inner][vc_column_inner width= »1/2″][vc_single_image media= »10735″ media_width_percent= »100″ uncode_shortcode_id= »725519″][/vc_column_inner][/vc_row_inner][/vc_column][/vc_row]
URL:https://grimpeglisse.org/sortie-sejour/alpine-hearts-women-queer-climbing-festival/
LOCATION:Göschenen\, Switzerland
CATEGORIES:Evènement extérieur GGG
ATTACH;FMTTYPE=image/jpeg:https://grimpeglisse.org/wp-content/uploads/2025/04/alpine-hearts-02-cover.jpg
END:VEVENT
END:VCALENDAR