BEGIN:VCALENDAR
VERSION:2.0
PRODID:-//Grimpe &amp; Glisse - ECPv6.15.20//NONSGML v1.0//EN
CALSCALE:GREGORIAN
METHOD:PUBLISH
X-ORIGINAL-URL:https://grimpeglisse.org
X-WR-CALDESC:Évènements pour Grimpe &amp; Glisse
REFRESH-INTERVAL;VALUE=DURATION:PT1H
X-Robots-Tag:noindex
X-PUBLISHED-TTL:PT1H
BEGIN:VTIMEZONE
TZID:Europe/Paris
BEGIN:DAYLIGHT
TZOFFSETFROM:+0100
TZOFFSETTO:+0200
TZNAME:CEST
DTSTART:20240331T010000
END:DAYLIGHT
BEGIN:STANDARD
TZOFFSETFROM:+0200
TZOFFSETTO:+0100
TZNAME:CET
DTSTART:20241027T010000
END:STANDARD
BEGIN:DAYLIGHT
TZOFFSETFROM:+0100
TZOFFSETTO:+0200
TZNAME:CEST
DTSTART:20250330T010000
END:DAYLIGHT
BEGIN:STANDARD
TZOFFSETFROM:+0200
TZOFFSETTO:+0100
TZNAME:CET
DTSTART:20251026T010000
END:STANDARD
BEGIN:DAYLIGHT
TZOFFSETFROM:+0100
TZOFFSETTO:+0200
TZNAME:CEST
DTSTART:20260329T010000
END:DAYLIGHT
BEGIN:STANDARD
TZOFFSETFROM:+0200
TZOFFSETTO:+0100
TZNAME:CET
DTSTART:20261025T010000
END:STANDARD
END:VTIMEZONE
BEGIN:VEVENT
DTSTART;VALUE=DATE:20250613
DTEND;VALUE=DATE:20250617
DTSTAMP:20260423T112801
CREATED:20250407T224311Z
LAST-MODIFIED:20250408T133449Z
UID:10530-1749772800-1750118399@grimpeglisse.org
SUMMARY:WEMA 2025
DESCRIPTION:[vc_row row_height_percent= »0″ override_padding= »yes » h_padding= »2″ top_padding= »5″ bottom_padding= »5″ back_color= »color-xsdn » overlay_alpha= »50″ gutter_size= »3″ column_width_percent= »100″ shift_y= »0″ z_index= »0″ uncode_shortcode_id= »578732″ back_color_type= »uncode-palette »][vc_column column_width_percent= »100″ position_vertical= »middle » gutter_size= »3″ overlay_alpha= »50″ shift_x= »0″ shift_y= »0″ shift_y_down= »0″ z_index= »0″ medium_width= »0″ mobile_width= »0″ css_animation= »alpha-anim » animation_speed= »1600″ width= »1/1″ uncode_shortcode_id= »576305″][vc_row_inner row_inner_height_percent= »0″ overlay_alpha= »50″ gutter_size= »4″ shift_y= »0″ z_index= »0″ limit_content= » » uncode_shortcode_id= »113572″][vc_column_inner column_width_percent= »100″ position_vertical= »middle » align_horizontal= »align_center » gutter_size= »2″ overlay_alpha= »50″ shift_x= »0″ shift_y= »0″ shift_y_down= »0″ z_index= »0″ medium_width= »3″ mobile_width= »0″ width= »4/12″ uncode_shortcode_id= »230254″][vc_single_image media= »10158″ media_width_percent= »100″ media_ratio= »one-one » alignment= »center » uncode_shortcode_id= »123038″ el_class= »unmask-blob-3″][/vc_column_inner][vc_column_inner column_width_percent= »100″ position_vertical= »bottom » gutter_size= »0″ overlay_alpha= »50″ shift_x= »0″ shift_y= »0″ shift_y_down= »0″ z_index= »0″ medium_width= »5″ mobile_width= »0″ width= »7/12″ uncode_shortcode_id= »208241″][vc_custom_heading text_color= »accent » heading_semantic= »h3″ text_size= »bigtext » uncode_shortcode_id= »918090″ el_class= »rotate-minus-beta » text_color_type= »uncode-palette »]Le WEMA[/vc_custom_heading][vc_custom_heading text_color= »accent » heading_semantic= »h3″ text_size= »bigtext » uncode_shortcode_id= »883188″ el_class= »rotate-plus-beta » text_color_type= »uncode-palette »]Késako[/vc_custom_heading][vc_empty_space empty_h= »1″ medium_visibility= »yes » mobile_visibility= »yes »][/vc_column_inner][vc_column_inner column_width_percent= »100″ gutter_size= »3″ overlay_alpha= »50″ shift_x= »0″ shift_y= »0″ shift_y_down= »0″ z_index= »0″ medium_visibility= »yes » medium_width= »0″ mobile_visibility= »yes » mobile_width= »0″ width= »1/12″ uncode_shortcode_id= »167859″][/vc_column_inner][/vc_row_inner][vc_custom_heading heading_semantic= »h6″ text_size= »custom » uncode_shortcode_id= »166952″ heading_custom_size= »clamp(20px\, 3vw\, 30px) »]Le WEMA\, c’est le Week-End Multi Activité de Grimpe et Glisse. 4 jours dans les montagnes\, pour de nombreuses activités de type escalade sportive\, escalade en grande voie\, randonnée\, via ferrata\, course d’arête\, canyoning\, rafting\, baptême de parapente…[/vc_custom_heading][vc_empty_space empty_h= »1″][vc_row_inner row_inner_height_percent= »0″ overlay_alpha= »50″ gutter_size= »4″ shift_y= »0″ z_index= »0″ limit_content= » » uncode_shortcode_id= »201280″][vc_column_inner column_width_percent= »100″ position_vertical= »middle » gutter_size= »3″ overlay_alpha= »50″ shift_x= »0″ shift_y= »0″ shift_y_down= »0″ z_index= »0″ medium_width= »3″ mobile_width= »3″ width= »2/12″ uncode_shortcode_id= »157416″][uncode_counter value= »4″ counter_color= » » size= »custom » weight= »800″ text= »Jours » uncode_shortcode_id= »180040″ heading_custom_size= »clamp(35px\, 8vw\, 50px) »][/vc_column_inner][vc_column_inner column_width_percent= »100″ position_vertical= »middle » gutter_size= »3″ overlay_alpha= »50″ shift_x= »0″ shift_y= »0″ shift_y_down= »0″ z_index= »0″ medium_width= »3″ mobile_width= »3″ width= »2/12″ uncode_shortcode_id= »605051″][uncode_counter value= »10″ counter_color= » » size= »custom » weight= »800″ text= »Activités sportives » uncode_shortcode_id= »167171″ suffix= »+ » heading_custom_size= »clamp(35px\, 8vw\, 50px) »][/vc_column_inner][vc_column_inner column_width_percent= »100″ position_vertical= »middle » gutter_size= »3″ overlay_alpha= »50″ shift_x= »0″ shift_y= »0″ shift_y_down= »0″ z_index= »0″ medium_width= »3″ mobile_width= »3″ width= »2/12″ uncode_shortcode_id= »392645″][uncode_counter value= »100″ counter_color= » » size= »custom » weight= »800″ text= »Participants » uncode_shortcode_id= »199678″ heading_custom_size= »clamp(35px\, 8vw\, 50px) »][/vc_column_inner][vc_column_inner column_width_percent= »100″ position_vertical= »middle » gutter_size= »3″ overlay_alpha= »50″ shift_x= »0″ shift_y= »0″ shift_y_down= »0″ z_index= »0″ medium_width= »7″ mobile_width= »7″ width= »3/12″ uncode_shortcode_id= »570379″][vc_separator sep_color= »\,Default »][/vc_column_inner][vc_column_inner column_width_percent= »100″ position_vertical= »middle » align_horizontal= »align_center » gutter_size= »3″ overlay_alpha= »50″ shift_x= »0″ shift_y= »0″ shift_y_down= »0″ z_index= »0″ medium_width= »7″ mobile_width= »7″ width= »3/12″ uncode_shortcode_id= »458583″][vc_single_image media= »10534″ media_width_use_pixel= »yes » media_ratio= »two-one » uncode_shortcode_id= »112596″ media_width_pixel= »220″][/vc_column_inner][/vc_row_inner][/vc_column][/vc_row][vc_row row_height_percent= »0″ override_padding= »yes » h_padding= »2″ top_padding= »2″ bottom_padding= »3″ overlay_alpha= »100″ gutter_size= »3″ column_width_percent= »100″ shift_y= »0″ z_index= »0″ content_parallax= »0″ row_height_use_pixel= » » uncode_shortcode_id= »145460″][vc_column column_width_use_pixel= »yes » gutter_size= »3″ overlay_alpha= »50″ shift_x= »0″ shift_y= »0″ medium_width= »0″ zoom_width= »0″ zoom_height= »0″ column_width_pixel= »800″][vc_column_text uncode_shortcode_id= »117076″] \n Et bien sûr\, pour la convivialité\, une belle soirée le samedi\, avec talent show\, musique\, etc… \nC’est ouvert à toutes et tous\, et c’est l’occasion de se rencontrer\, entre adhérentes et adhérents de toute la France. Nous étions moins de 50 en 2023\, 70 en 2024\, nous visons entre 80 et 100 participant.e.s pour 2025\, venant de toute la France. \nLe WEMA 2025 se tient du vendredi 13 au lundi 16 juin à Vallouise-Pelvoux (Hautes-Alpes). \nLe WEMA est un événement entièrement organisé par des bénévoles de Grimpe et Glisse et est donc proposé à prix coûtant. \n[/vc_column_text][/vc_column][/vc_row][vc_row][vc_column column_width_percent= »100″ align_horizontal= »align_center » gutter_size= »3″ overlay_alpha= »50″ shift_x= »0″ shift_y= »0″ shift_y_down= »0″ z_index= »0″ medium_width= »0″ mobile_width= »0″ width= »1/1″ uncode_shortcode_id= »122284″][vc_button button_color= »accent » size= »btn-xl » border_width= »0″ link= »url:https%3A%2F%2Fsites.google.com%2Fgrimpeglisse.org%2Fwema2025%2F » button_color_type= »uncode-palette » uncode_shortcode_id= »708686″]Site du WEMA[/vc_button][/vc_column][/vc_row][vc_row][vc_column width= »1/1″][vc_empty_space empty_h= »3″][/vc_column][/vc_row][vc_row row_height_percent= »0″ override_padding= »yes » h_padding= »2″ top_padding= »0″ bottom_padding= »0″ overlay_alpha= »100″ gutter_size= »3″ column_width_percent= »100″ shift_y= »0″ z_index= »0″ row_height_use_pixel= » »][vc_column column_width_use_pixel= »yes » gutter_size= »3″ overlay_alpha= »50″ shift_x= »0″ shift_y= »0″ medium_width= »0″ zoom_width= »0″ zoom_height= »0″ width= »5/6″][vc_single_image media= »10534″ media_width_percent= »100″ media_ratio= »three-two » media_title_uppercase= » » uncode_shortcode_id= »107803″][/vc_column][vc_column column_width_percent= »100″ gutter_size= »3″ overlay_alpha= »50″ shift_x= »0″ shift_y= »0″ medium_width= »0″ zoom_width= »0″ zoom_height= »0″ width= »1/6″][/vc_column][/vc_row][vc_row row_height_percent= »0″ overlay_alpha= »50″ gutter_size= »3″ column_width_percent= »100″ shift_y= »0″ z_index= »0″ medium_visibility= »yes » mobile_visibility= »yes » content_parallax= »0″ uncode_shortcode_id= »330298″][vc_column column_width_percent= »100″ align_horizontal= »align_center » gutter_size= »3″ overlay_alpha= »50″ shift_x= »0″ shift_y= »0″ shift_y_down= »0″ z_index= »0″ medium_width= »0″ mobile_width= »0″ width= »1/1″ uncode_shortcode_id= »122284″][vc_button button_color= »accent » size= »btn-xl » border_width= »0″ link= »url:https%3A%2F%2Fsites.google.com%2Fgrimpeglisse.org%2Fwema2025%2F » button_color_type= »uncode-palette » uncode_shortcode_id= »708686″]Site du WEMA[/vc_button][/vc_column][/vc_row][vc_row][vc_column width= »1/1″][vc_empty_space empty_h= »3″][/vc_column][/vc_row]
URL:https://grimpeglisse.org/sortie-sejour/wema-2025/
LOCATION:Massif des Ecrins\, Vallouise-Pelvoux\, 05340\, France
CATEGORIES:WEMA
ATTACH;FMTTYPE=image/png:https://grimpeglisse.org/wp-content/uploads/2023/07/2023-09-Equipe-Wema-bis.png
END:VEVENT
END:VCALENDAR