BEGIN:VCALENDAR
VERSION:2.0
PRODID:-//Grimpe &amp; Glisse - ECPv6.15.20//NONSGML v1.0//EN
CALSCALE:GREGORIAN
METHOD:PUBLISH
X-ORIGINAL-URL:https://grimpeglisse.org
X-WR-CALDESC:Évènements pour Grimpe &amp; Glisse
REFRESH-INTERVAL;VALUE=DURATION:PT1H
X-Robots-Tag:noindex
X-PUBLISHED-TTL:PT1H
BEGIN:VTIMEZONE
TZID:Europe/Paris
BEGIN:DAYLIGHT
TZOFFSETFROM:+0100
TZOFFSETTO:+0200
TZNAME:CEST
DTSTART:20240331T010000
END:DAYLIGHT
BEGIN:STANDARD
TZOFFSETFROM:+0200
TZOFFSETTO:+0100
TZNAME:CET
DTSTART:20241027T010000
END:STANDARD
BEGIN:DAYLIGHT
TZOFFSETFROM:+0100
TZOFFSETTO:+0200
TZNAME:CEST
DTSTART:20250330T010000
END:DAYLIGHT
BEGIN:STANDARD
TZOFFSETFROM:+0200
TZOFFSETTO:+0100
TZNAME:CET
DTSTART:20251026T010000
END:STANDARD
BEGIN:DAYLIGHT
TZOFFSETFROM:+0100
TZOFFSETTO:+0200
TZNAME:CEST
DTSTART:20260329T010000
END:DAYLIGHT
BEGIN:STANDARD
TZOFFSETFROM:+0200
TZOFFSETTO:+0100
TZNAME:CET
DTSTART:20261025T010000
END:STANDARD
END:VTIMEZONE
BEGIN:VEVENT
DTSTART;VALUE=DATE:20250522
DTEND;VALUE=DATE:20250527
DTSTAMP:20260423T124729
CREATED:20250509T111138Z
LAST-MODIFIED:20250509T120000Z
UID:10843-1747872000-1748303999@grimpeglisse.org
SUMMARY:Stage de perfectionnement Alpinisme - Groupe PD++
DESCRIPTION:[vc_row][vc_column width= »1/1″][vc_column_text uncode_shortcode_id= »185604″] \nEvènement créé et organisé par : Hadrien\nEncadrement assuré par : Bertrand (GHM).\n\nNombre max de participants : 6. \nFormation : oui \nLes contacter directement pour plus d’informations.[/vc_column_text][/vc_column][/vc_row][vc_row unlock_row_content= »yes » row_height_percent= »0″ override_padding= »yes » h_padding= »3″ top_padding= »2″ bottom_padding= »0″ overlay_alpha= »50″ gutter_size= »3″ column_width_percent= »100″ shift_y= »0″ z_index= »0″ content_parallax= »0″ uncode_shortcode_id= »164146″][vc_column column_width_percent= »100″ gutter_size= »3″ override_padding= »yes » column_padding= »5″ style= »light » back_image= »10266″ overlay_color= »color-gyho » overlay_alpha= »85″ radius= »hg » shift_x= »0″ shift_y= »0″ shift_y_down= »0″ z_index= »0″ medium_width= »0″ mobile_width= »0″ width= »1/1″ uncode_shortcode_id= »217126″ overlay_color_type= »uncode-palette »][vc_row_inner row_inner_height_percent= »0″ overlay_alpha= »50″ gutter_size= »2″ shift_y= »0″ z_index= »0″ limit_content= » » uncode_shortcode_id= »209343″][vc_column_inner column_width_percent= »100″ gutter_size= »4″ style= »light » overlay_alpha= »50″ shift_x= »0″ shift_y= »0″ shift_y_down= »0″ z_index= »0″ medium_width= »0″ mobile_width= »0″ width= »8/12″ uncode_shortcode_id= »187603″][vc_custom_heading uncode_shortcode_id= »193365″]Niveau technique et physique[/vc_custom_heading][/vc_column_inner][vc_column_inner column_width_percent= »100″ position_vertical= »justify » gutter_size= »3″ overlay_alpha= »50″ shift_x= »0″ shift_y= »0″ shift_y_down= »0″ z_index= »0″ medium_width= »0″ mobile_width= »0″ width= »4/12″ uncode_shortcode_id= »138846″][/vc_column_inner][/vc_row_inner][vc_column_text uncode_shortcode_id= »151998″]Endurance : ❤️➕➕ – Technicité : ⛰️⛰️➕➕[/vc_column_text][/vc_column][/vc_row]
URL:https://grimpeglisse.org/sortie-sejour/2025-05-stage-de-perfectionnement-alpinisme/
CATEGORIES:Alpinisme
ATTACH;FMTTYPE=image/jpeg:https://grimpeglisse.org/wp-content/uploads/2025/05/Image-picto-FFCAM-Alpinisme.jpg
END:VEVENT
END:VCALENDAR