BEGIN:VCALENDAR
VERSION:2.0
PRODID:-//Grimpe &amp; Glisse - ECPv6.15.20//NONSGML v1.0//EN
CALSCALE:GREGORIAN
METHOD:PUBLISH
X-ORIGINAL-URL:https://grimpeglisse.org
X-WR-CALDESC:Évènements pour Grimpe &amp; Glisse
REFRESH-INTERVAL;VALUE=DURATION:PT1H
X-Robots-Tag:noindex
X-PUBLISHED-TTL:PT1H
BEGIN:VTIMEZONE
TZID:Europe/Paris
BEGIN:DAYLIGHT
TZOFFSETFROM:+0100
TZOFFSETTO:+0200
TZNAME:CEST
DTSTART:20240331T010000
END:DAYLIGHT
BEGIN:STANDARD
TZOFFSETFROM:+0200
TZOFFSETTO:+0100
TZNAME:CET
DTSTART:20241027T010000
END:STANDARD
BEGIN:DAYLIGHT
TZOFFSETFROM:+0100
TZOFFSETTO:+0200
TZNAME:CEST
DTSTART:20250330T010000
END:DAYLIGHT
BEGIN:STANDARD
TZOFFSETFROM:+0200
TZOFFSETTO:+0100
TZNAME:CET
DTSTART:20251026T010000
END:STANDARD
BEGIN:DAYLIGHT
TZOFFSETFROM:+0100
TZOFFSETTO:+0200
TZNAME:CEST
DTSTART:20260329T010000
END:DAYLIGHT
BEGIN:STANDARD
TZOFFSETFROM:+0200
TZOFFSETTO:+0100
TZNAME:CET
DTSTART:20261025T010000
END:STANDARD
END:VTIMEZONE
BEGIN:VEVENT
DTSTART;VALUE=DATE:20250430
DTEND;VALUE=DATE:20250506
DTSTAMP:20260423T124730
CREATED:20250407T222602Z
LAST-MODIFIED:20250410T210521Z
UID:10504-1745971200-1746489599@grimpeglisse.org
SUMMARY:Escalade à Orpierre\, couenne et Grande Voie
DESCRIPTION:[vc_row][vc_column width= »1/1″][vc_column_text uncode_shortcode_id= »109344″] \nGrand week-end d’escalade à Orpierre – Du 1er au 4 mai 🧗‍♂️☀️\nEnvie de 4 jours de grimpe dans un cadre magnifique ? Rejoignez-nous à Orpierre\, un spot incontournable pour un séjour mêlant couenne et grandes voies ! Le séjour est pensé pour les personnes qui sont autonomes en couenne et / ou les personnes qui souhaitent faire de la grande voie. \nOn louera des voitures depuis Grénoble. Ce sera à chacune et chacun de décider de nous joindre à Grenoble ou directement à Orpierre. \n🔥 De la grimpe pour tous niveaux\n🎯 Escalade en couenne et pratique de grandes voies \n\nProgramme :\nMercredi 30 avril\nArrivée à Orpierre dans la soirée. \nJeudi/Vendredi/Samedi\nGrimpe à Orpierre. Possibilité de faire GV pour les personnes ayant fait les formations nécessaires. \nDimanche 4 mai\nDépart d’Orpierre dans l’après-midi \n\nPrérequis :\nAvoir fait la formation SNE1 pour grimper en couenne et les formations GV1 et GV2 pour grimper en GV. \nOn reverra les contenus sur place\, mais c’est beaucoup mieux si on les a déjà vu auparavant. \n➡️ S’il vous manque des formations contactez l’organisateur.[/vc_column_text][/vc_column][/vc_row][vc_row unlock_row_content= »yes » row_height_percent= »0″ override_padding= »yes » h_padding= »0″ top_padding= »0″ bottom_padding= »0″ back_color= »accent » overlay_alpha= »50″ gutter_size= »0″ column_width_percent= »100″ shift_y= »0″ z_index= »0″ uncode_shortcode_id= »124992″ back_color_type= »uncode-palette »][vc_column column_width_percent= »100″ align_horizontal= »align_center » gutter_size= »3″ style= »dark » overlay_alpha= »50″ shift_x= »0″ shift_y= »0″ shift_y_down= »0″ z_index= »0″ medium_width= »0″ mobile_width= »0″ width= »1/1″ uncode_shortcode_id= »504915″][vc_row_inner row_inner_height_percent= »0″ overlay_alpha= »50″ equal_height= »yes » gutter_size= »0″ shift_y= »0″ z_index= »0″ limit_content= » »][vc_column_inner column_width_percent= »100″ gutter_size= »2″ override_padding= »yes » column_padding= »3″ style= »dark » overlay_alpha= »50″ shift_x= »0″ shift_y= »0″ shift_y_down= »0″ z_index= »0″ medium_width= »0″ mobile_width= »0″ css_animation= »alpha-anim » animation_speed= »1000″ width= »1/3″ uncode_shortcode_id= »181086″][vc_icon icon= »fa fa-map3″ size= »fa-3x » uncode_shortcode_id= »387076″ title= »Lieu »][/vc_icon][vc_column_text text_lead= »yes » uncode_shortcode_id= »628117″]Orpierre\, Hautes Alpes[/vc_column_text][/vc_column_inner][vc_column_inner column_width_percent= »100″ gutter_size= »2″ override_padding= »yes » column_padding= »3″ style= »dark » overlay_color= »color-jevc » overlay_alpha= »5″ shift_x= »0″ shift_y= »0″ shift_y_down= »0″ z_index= »0″ medium_width= »0″ mobile_width= »0″ css_animation= »alpha-anim » animation_speed= »1000″ animation_delay= »200″ width= »1/3″ uncode_shortcode_id= »106134″ overlay_color_type= »uncode-palette »][vc_icon icon= »fa fa-profile-male » size= »fa-3x » uncode_shortcode_id= »816734″ title= »Places disponibles »][/vc_icon][vc_column_text text_lead= »yes » uncode_shortcode_id= »172608″]8[/vc_column_text][/vc_column_inner][vc_column_inner column_width_percent= »100″ gutter_size= »2″ override_padding= »yes » column_padding= »3″ style= »dark » overlay_color= »color-jevc » overlay_alpha= »10″ shift_x= »0″ shift_y= »0″ shift_y_down= »0″ z_index= »0″ medium_width= »0″ mobile_width= »0″ css_animation= »alpha-anim » animation_speed= »1000″ animation_delay= »400″ width= »1/3″ uncode_shortcode_id= »203006″ overlay_color_type= »uncode-palette »][vc_icon icon= »fa fa-wallet » size= »fa-3x » uncode_shortcode_id= »494460″ title= »Coût approximatif »][/vc_icon][vc_column_text text_lead= »yes » uncode_shortcode_id= »204500″]200€ plus nourriture plus transport jusqu’à Grenoble / Orpierre\nLogement : 110€\nTrain (depuis Paris) : env 200€\nVoitures/Essence : 60€\nFormation GGG : 20€[/vc_column_text][/vc_column_inner][/vc_row_inner][/vc_column][/vc_row][vc_row unlock_row_content= »yes » row_height_percent= »0″ override_padding= »yes » h_padding= »0″ top_padding= »0″ bottom_padding= »0″ overlay_alpha= »100″ gutter_size= »3″ column_width_percent= »100″ shift_y= »0″ z_index= »0″ content_parallax= »0″ uncode_shortcode_id= »250640″][vc_column column_width_percent= »100″ position_horizontal= »left » gutter_size= »3″ expand_height= »yes » overlay_alpha= »100″ shift_x= »0″ shift_y= »0″ shift_y_down= »0″ z_index= »0″ medium_width= »0″ mobile_width= »0″ zoom_width= »0″ zoom_height= »0″ width= »1/1″ mobile_height= »360″][vc_column_text uncode_shortcode_id= »952091″][/vc_column_text][/vc_column][/vc_row][vc_row][vc_column width= »1/1″][vc_empty_space empty_h= »2″][/vc_column][/vc_row][vc_row unlock_row_content= »yes » row_height_percent= »0″ override_padding= »yes » h_padding= »0″ top_padding= »0″ bottom_padding= »0″ overlay_alpha= »50″ equal_height= »yes » gutter_size= »0″ column_width_percent= »100″ shift_y= »0″ z_index= »0″ uncode_shortcode_id= »938548″][vc_column column_width_percent= »100″ position_vertical= »middle » gutter_size= »3″ override_padding= »yes » column_padding= »5″ style= »light » back_color= »color-uydo » overlay_alpha= »50″ shift_x= »0″ shift_y= »0″ shift_y_down= »0″ z_index= »0″ medium_width= »0″ mobile_width= »0″ width= »1/2″ uncode_shortcode_id= »956385″ back_color_type= »uncode-palette »][vc_custom_heading heading_semantic= »h6″ text_size= »h6″ text_transform= »uppercase » badge_style= »yes » radius= »sm » uncode_shortcode_id= »131824″ back_color_type= »uncode-solid » back_color_solid= »rgba(255\,255\,255\,0.2) »]à prévoir[/vc_custom_heading][vc_custom_heading heading_semantic= »h3″ text_size= »h1″ uncode_shortcode_id= »200112″]Matériel[/vc_custom_heading][vc_custom_heading heading_semantic= »h4″ text_size= »h4″ text_weight= »400″ uncode_shortcode_id= »167013″] \nMatériel\n\nChaussons\nBaudrier\nCasque\nDescendeur\nMachard\n\n[/vc_custom_heading][/vc_column][vc_column column_width_percent= »100″ position_vertical= »middle » align_horizontal= »align_center » gutter_size= »0″ override_padding= »yes » column_padding= »0″ style= »dark » back_color= »accent » overlay_alpha= »50″ shift_x= »0″ shift_y= »0″ shift_y_down= »0″ z_index= »0″ medium_width= »0″ mobile_width= »0″ width= »1/2″ uncode_shortcode_id= »156921″ back_color_type= »uncode-palette »][vc_single_image media= »9998″ media_width_percent= »100″ media_ratio= »sixteen-nine » alignment= »center » uncode_shortcode_id= »571741″][vc_row_inner limit_content= » »][vc_column_inner column_width_percent= »100″ align_horizontal= »align_center » gutter_size= »3″ override_padding= »yes » column_padding= »5″ style= »dark » overlay_alpha= »50″ shift_x= »0″ shift_y= »0″ shift_y_down= »0″ z_index= »0″ medium_width= »0″ mobile_width= »0″ width= »1/1″ uncode_shortcode_id= »103052″][vc_custom_heading heading_semantic= »h3″ text_size= »h3″ uncode_shortcode_id= »152865″]Pour toute question :\nalbertom @grimpeglisse.org[/vc_custom_heading][/vc_column_inner][/vc_row_inner][/vc_column][/vc_row][vc_row unlock_row_content= »yes » row_height_percent= »50″ override_padding= »yes » h_padding= »0″ top_padding= »3″ bottom_padding= »0″ overlay_alpha= »50″ equal_height= »yes » gutter_size= »0″ column_width_percent= »100″ shift_y= »0″ z_index= »0″ content_parallax= »0″ uncode_shortcode_id= »705376″][vc_column column_width_percent= »100″ gutter_size= »0″ override_padding= »yes » column_padding= »2″ overlay_alpha= »50″ shift_x= »0″ shift_y= »0″ shift_y_down= »0″ z_index= »0″ medium_width= »0″ mobile_width= »0″ width= »1/1″ uncode_shortcode_id= »355714″][vc_row_inner row_inner_height_percent= »0″ overlay_alpha= »50″ equal_height= »yes » gutter_size= »0″ shift_y= »0″ z_index= »0″ uncode_shortcode_id= »325209″][vc_column_inner width= »1/4″][/vc_column_inner][vc_column_inner column_width_percent= »100″ gutter_size= »2″ override_padding= »yes » column_padding= »4″ style= »dark » back_color= »color-wayh » overlay_alpha= »50″ shift_x= »0″ shift_y= »0″ shift_y_down= »0″ z_index= »0″ medium_width= »0″ mobile_width= »0″ width= »1/2″ uncode_shortcode_id= »100406″ back_color_type= »uncode-palette »][vc_icon icon= »fa fa-warning3″ icon_color= »accent » size= »fa-4x » align= »left » title= »Important » uncode_shortcode_id= »152432″ icon_color_type= »uncode-palette »]Licence FFCAM obligatoire.[/vc_icon][vc_single_image media= »10228″ media_width_percent= »75″ alignment= »center » uncode_shortcode_id= »175174″][/vc_column_inner][vc_column_inner width= »1/4″][/vc_column_inner][/vc_row_inner][/vc_column][/vc_row][vc_row][vc_column width= »1/1″][vc_empty_space empty_h= »3″][/vc_column][/vc_row][vc_row row_height_percent= »50″ override_padding= »yes » h_padding= »2″ top_padding= »5″ bottom_padding= »5″ back_image= »9998″ back_position= »center center » parallax= »yes » overlay_color= »color-nhtu » overlay_alpha= »90″ gutter_size= »3″ column_width_percent= »100″ shift_y= »0″ z_index= »0″ content_parallax= »0″ uncode_shortcode_id= »104803″ overlay_color_type= »uncode-palette »][vc_column column_width_use_pixel= »yes » position_vertical= »middle » align_horizontal= »align_center » gutter_size= »3″ style= »dark » overlay_alpha= »50″ shift_x= »0″ shift_y= »0″ shift_y_down= »0″ z_index= »0″ medium_width= »0″ mobile_width= »0″ width= »1/1″ column_width_pixel= »900″ uncode_shortcode_id= »191567″][vc_custom_heading text_color= »accent » heading_semantic= »h6″ text_size= »h6″ text_transform= »uppercase » uncode_shortcode_id= »111696″ text_color_type= »uncode-palette »]Intéressé.e ?[/vc_custom_heading][vc_custom_heading heading_semantic= »h3″ text_size= »h1″ uncode_shortcode_id= »397589″]Inscris-toi sur le formulaire[/vc_custom_heading][vc_column_text uncode_shortcode_id= »751072″]Pré-inscription fermée[/vc_column_text][/vc_column][/vc_row][vc_row][vc_column width= »1/1″][vc_empty_space empty_h= »3″][/vc_column][/vc_row]
URL:https://grimpeglisse.org/sortie-sejour/2025-04-escalade-orpierre-couenne-gv/
LOCATION:Orpierre\, Orpierre\, 05700
CATEGORIES:Escalade SNE
ATTACH;FMTTYPE=image/jpeg:https://grimpeglisse.org/wp-content/uploads/2025/02/orpierre.jpg
END:VEVENT
END:VCALENDAR