BEGIN:VCALENDAR
VERSION:2.0
PRODID:-//Grimpe &amp; Glisse - ECPv6.15.20//NONSGML v1.0//EN
CALSCALE:GREGORIAN
METHOD:PUBLISH
X-ORIGINAL-URL:https://grimpeglisse.org
X-WR-CALDESC:Évènements pour Grimpe &amp; Glisse
REFRESH-INTERVAL;VALUE=DURATION:PT1H
X-Robots-Tag:noindex
X-PUBLISHED-TTL:PT1H
BEGIN:VTIMEZONE
TZID:Europe/Paris
BEGIN:DAYLIGHT
TZOFFSETFROM:+0100
TZOFFSETTO:+0200
TZNAME:CEST
DTSTART:20240331T010000
END:DAYLIGHT
BEGIN:STANDARD
TZOFFSETFROM:+0200
TZOFFSETTO:+0100
TZNAME:CET
DTSTART:20241027T010000
END:STANDARD
BEGIN:DAYLIGHT
TZOFFSETFROM:+0100
TZOFFSETTO:+0200
TZNAME:CEST
DTSTART:20250330T010000
END:DAYLIGHT
BEGIN:STANDARD
TZOFFSETFROM:+0200
TZOFFSETTO:+0100
TZNAME:CET
DTSTART:20251026T010000
END:STANDARD
BEGIN:DAYLIGHT
TZOFFSETFROM:+0100
TZOFFSETTO:+0200
TZNAME:CEST
DTSTART:20260329T010000
END:DAYLIGHT
BEGIN:STANDARD
TZOFFSETFROM:+0200
TZOFFSETTO:+0100
TZNAME:CET
DTSTART:20261025T010000
END:STANDARD
END:VTIMEZONE
BEGIN:VEVENT
DTSTART;VALUE=DATE:20250408
DTEND;VALUE=DATE:20250414
DTSTAMP:20260423T140913
CREATED:20250410T185310Z
LAST-MODIFIED:20250410T185415Z
UID:10717-1744070400-1744588799@grimpeglisse.org
SUMMARY:Festival UNES
DESCRIPTION:[vc_row][vc_column column_width_percent= »100″ position_vertical= »middle » align_horizontal= »align_center » gutter_size= »3″ overlay_alpha= »50″ shift_x= »0″ shift_y= »0″ shift_y_down= »0″ z_index= »0″ medium_width= »0″ mobile_width= »0″ width= »1/1″ uncode_shortcode_id= »103755″][vc_column_text uncode_shortcode_id= »102405″] \n✨🧗‍♀️ Découvre le festival UNES à Chamonix 🧗‍♀️✨\n[/vc_column_text][vc_column_text uncode_shortcode_id= »602834″] \nLe festival UNES est avant tout un événement féministe en montagne\, centré sur la mise en lumière des voix minorisées dans les pratiques outdoor.\nIl met en avant les femmes\, personnes trans\, non-binaires et toutes les personnes peu représentées dans ces milieux\, à travers des pratiques sportives\, des ateliers\, des débats\, et une réflexion sur les rapports de pouvoir\, l’inclusion\, la déconstruction des normes de genre dans l’espace montagnard. \n[/vc_column_text][vc_button border_width= »0″ link= »url:https%3A%2F%2Funes-chamonix.com%2Findex.php%2Fprogramme-festival-unes-2025%2F » uncode_shortcode_id= »833862″]Découvre la programmation 2025[/vc_button][/vc_column][/vc_row][vc_row][vc_column width= »1/1″][vc_separator sep_color= » » uncode_shortcode_id= »139959″][/vc_column][/vc_row][vc_row row_height_percent= »0″ override_padding= »yes » h_padding= »2″ top_padding= »5″ bottom_padding= »3″ overlay_alpha= »100″ gutter_size= »3″ column_width_percent= »100″ shift_y= »0″ z_index= »0″ row_height_use_pixel= » »][vc_column column_width_use_pixel= »yes » gutter_size= »3″ overlay_alpha= »50″ shift_x= »0″ shift_y= »0″ medium_width= »0″ zoom_width= »0″ zoom_height= »0″ column_width_pixel= »800″][vc_column_text uncode_shortcode_id= »288563″]Les actions du festival UNES\, c’est d’abord un festival annuel à Chamonix : UNES.\nCinq jours dédiés au féminisme\, aux droits des femmes et à la remise en question des inégalités entre les genre. Cinq jours de rencontres\, de discussions et de partages. \nMais au-delà du festival\, ce sont aussi des actions ponctuelles\, comme la célébration de la Journée Internationale contre les violences faites aux femmes le 25 novembre\, des apéros malins\, des réponses à des appels à projets et des partenariats avec des associations de la Vallée de Chamonix. Pour en savoir plus.[/vc_column_text][/vc_column][/vc_row][vc_row row_height_percent= »0″ override_padding= »yes » h_padding= »2″ top_padding= »0″ bottom_padding= »0″ overlay_alpha= »100″ gutter_size= »3″ column_width_percent= »100″ shift_y= »0″ z_index= »0″ row_height_use_pixel= » »][vc_column column_width_use_pixel= »yes » gutter_size= »3″ overlay_alpha= »50″ shift_x= »0″ shift_y= »0″ medium_width= »0″ zoom_width= »0″ zoom_height= »0″ width= »5/6″][vc_single_image media= »10718″ caption= »yes » media_width_percent= »100″ media_ratio= »three-two » media_title_uppercase= » » uncode_shortcode_id= »209490″][/vc_column][vc_column column_width_percent= »100″ gutter_size= »3″ overlay_alpha= »50″ shift_x= »0″ shift_y= »0″ medium_width= »0″ zoom_width= »0″ zoom_height= »0″ width= »1/6″][vc_column_text uncode_shortcode_id= »200944″]Festival UNES\, un rendez-vous féministe unique en son genre.[/vc_column_text][/vc_column][/vc_row][vc_row row_height_percent= »0″ override_padding= »yes » h_padding= »2″ top_padding= »3″ bottom_padding= »3″ overlay_alpha= »100″ gutter_size= »3″ column_width_percent= »100″ shift_y= »0″ z_index= »0″ row_height_use_pixel= » »][vc_column column_width_use_pixel= »yes » gutter_size= »3″ overlay_alpha= »50″ shift_x= »0″ shift_y= »0″ medium_width= »0″ zoom_width= »0″ zoom_height= »0″ column_width_pixel= »800″][vc_column_text uncode_shortcode_id= »125663″]Au programme : ateliers d’escalade\, randonnées en mixité choisie\, cercles de parole\, conférences sur les rapports de pouvoir dans les milieux montagnards\, mais aussi projections\, moments festifs et discussions engagées. Le tout dans une ambiance où l’écoute\, la sororité et la sécurité émotionnelle sont des priorités.[/vc_column_text][/vc_column][/vc_row][vc_row row_height_percent= »0″ override_padding= »yes » h_padding= »2″ top_padding= »0″ bottom_padding= »0″ overlay_alpha= »100″ gutter_size= »3″ column_width_percent= »100″ shift_y= »0″ z_index= »0″ row_height_use_pixel= » »][vc_column column_width_use_pixel= »yes » gutter_size= »3″ overlay_alpha= »50″ shift_x= »0″ shift_y= »0″ medium_width= »0″ zoom_width= »0″ zoom_height= »0″ width= »5/6″][vc_single_image media= »10721″ caption= »yes » media_width_percent= »100″ media_ratio= »three-two » media_title_uppercase= » » uncode_shortcode_id= »839771″][/vc_column][vc_column column_width_percent= »100″ gutter_size= »3″ overlay_alpha= »50″ shift_x= »0″ shift_y= »0″ medium_width= »0″ zoom_width= »0″ zoom_height= »0″ width= »1/6″][/vc_column][/vc_row]
URL:https://grimpeglisse.org/sortie-sejour/festival-unes/
LOCATION:Chamonix\, Mont-Blanc\, 74400\, France
CATEGORIES:Evènement extérieur GGG
ATTACH;FMTTYPE=image/jpeg:https://grimpeglisse.org/wp-content/uploads/2025/04/Festival-Unes-cover-paysage-02-1920px-web.jpg
END:VEVENT
BEGIN:VEVENT
DTSTART;VALUE=DATE:20250412
DTEND;VALUE=DATE:20250414
DTSTAMP:20260423T140913
CREATED:20250403T194455Z
LAST-MODIFIED:20250408T075413Z
UID:10189-1744416000-1744588799@grimpeglisse.org
SUMMARY:Ski de rando en étoile à partir du refuge de l’Etendard (gardé)
DESCRIPTION:[vc_row row_height_percent= »0″ override_padding= »yes » h_padding= »2″ top_padding= »3″ bottom_padding= »2″ overlay_alpha= »50″ gutter_size= »3″ column_width_percent= »100″ shift_y= »0″ z_index= »0″ content_parallax= »0″ uncode_shortcode_id= »222690″][vc_column width= »1/1″][vc_row_inner][vc_column_inner width= »1/1″][vc_custom_heading heading_semantic= »h3″ uncode_shortcode_id= »704429″]Courses faciles depuis le refuge de l’Etendard situé dans un paysage idyllique du massif des Grandes Rousses (Savoie)[/vc_custom_heading][/vc_column_inner][/vc_row_inner][vc_row_inner][vc_column_inner width= »1/1″][vc_column_text uncode_shortcode_id= »179831″]Situé à 2400 mètres d’altitude en pleine montagne\, gardé par un binôme féminin très accueillant et accessible depuis la station de Saint-Sorlin-d’Arves\, le refuge se trouve à proximité d’un grand lac (recouvert en hiver) et permet d’accéder au pic de l’Etendard et à ses satellites.[/vc_column_text][/vc_column_inner][/vc_row_inner][/vc_column][/vc_row][vc_row unlock_row_content= »yes » row_height_percent= »100″ override_padding= »yes » h_padding= »2″ top_padding= »2″ bottom_padding= »2″ overlay_alpha= »50″ gutter_size= »2″ column_width_use_pixel= »yes » shift_y= »0″ z_index= »0″ content_parallax= »0″ uncode_shortcode_id= »149194″ column_width_pixel= »1500″][vc_column column_width_percent= »100″ position_vertical= »justify » gutter_size= »3″ override_padding= »yes » column_padding= »3″ style= »dark » back_color= »accent » overlay_alpha= »50″ radius= »xl » shift_x= »0″ shift_y= »0″ shift_y_down= »0″ z_index= »0″ medium_width= »0″ mobile_width= »0″ width= »1/2″ uncode_shortcode_id= »190514″ back_color_type= »uncode-palette »][vc_custom_heading heading_semantic= »h3″ text_transform= »uppercase » uncode_shortcode_id= »170869″]Programme[/vc_custom_heading][vc_row_inner limit_content= » »][vc_column_inner column_width_percent= »100″ gutter_size= »3″ style= »dark » overlay_alpha= »50″ shift_x= »0″ shift_y= »0″ shift_y_down= »0″ z_index= »0″ medium_width= »0″ align_mobile= »align_center_mobile » mobile_width= »0″ width= »1/1″ uncode_shortcode_id= »190492″][vc_custom_heading heading_semantic= »h6″ text_size= »custom » text_weight= »400″ uncode_shortcode_id= »382912″ heading_custom_size= »clamp(16px\, 3vw\, 26px) »]Rendez-vous le vendredi-soir à la gare de Chambéry ou à St-Jean-de-Maurienne.[/vc_custom_heading][vc_separator sep_color= »\,Default »][vc_column_text uncode_shortcode_id= »419764″]\nVendredi 11\nTrain Paris > Chambéry à 17h46 Arrivée à Chambéry à 20h41 et récupération d’un véhicule de location à la gare de Chambéry pour rejoindre Saint-Jean-de-Maurienne (45 min de route) où nous passons la première nuit.[/vc_column_text][vc_separator sep_color= »\,Default »][vc_column_text uncode_shortcode_id= »102858″]\nSamedi 12\nMontée à Saint-Sorlin-d’Arves de bonne heure pour rejoindre le refuge de l’Etendard depuis le domaine skiable de Saint-Sorlin et première course à partir du refuge. Nuitée au refuge.[/vc_column_text][vc_separator sep_color= »\,Default »][vc_column_text uncode_shortcode_id= »166784″]\nDimanche 13\nCourse à partir du refuge et redescente à Saint Sorin en fin d’après midi pour rejoindre Chambéry. Train de retour à 20h22 (arrivée à Paris à 23h14).[/vc_column_text][/vc_column_inner][/vc_row_inner][/vc_column][vc_column column_width_percent= »100″ position_vertical= »justify » gutter_size= »3″ back_image= »10012″ back_position= »center bottom » overlay_alpha= »50″ radius= »xl » shift_x= »0″ shift_y= »0″ shift_y_down= »0″ z_index= »0″ medium_width= »0″ mobile_width= »0″ width= »1/2″ uncode_shortcode_id= »633285″ mobile_height= »33vh »][/vc_column][/vc_row][vc_row row_height_percent= »0″ override_padding= »yes » h_padding= »2″ top_padding= »6″ bottom_padding= »6″ overlay_alpha= »50″ equal_height= »yes » gutter_size= »3″ column_width_percent= »100″ shift_y= »0″ z_index= »0″][vc_column column_width_percent= »100″ position_vertical= »middle » gutter_size= »3″ overlay_alpha= »50″ shift_x= »0″ shift_y= »0″ shift_y_down= »0″ z_index= »0″ medium_width= »0″ mobile_width= »0″ width= »1/2″][vc_row_inner row_inner_height_percent= »0″ overlay_alpha= »50″ gutter_size= »2″ shift_y= »0″ z_index= »0″][vc_column_inner column_width_percent= »100″ gutter_size= »3″ overlay_alpha= »50″ shift_x= »0″ shift_y= »-2″ shift_y_fixed= »yes » shift_y_down= »0″ z_index= »0″ medium_width= »4″ mobile_width= »4″ width= »1/2″][vc_single_image media= »10204″ media_width_percent= »100″ media_ratio= »nine-sixteen » uncode_shortcode_id= »359050″][/vc_column_inner][vc_column_inner column_width_percent= »100″ gutter_size= »3″ overlay_alpha= »50″ shift_x= »0″ shift_y= »0″ shift_y_fixed= »yes » shift_y_down= »-2″ z_index= »0″ medium_width= »4″ mobile_width= »4″ width= »1/2″][vc_single_image media= »10206″ media_width_percent= »100″ media_ratio= »nine-sixteen » uncode_shortcode_id= »626893″][/vc_column_inner][/vc_row_inner][/vc_column][vc_column column_width_percent= »100″ position_vertical= »middle » gutter_size= »3″ overlay_alpha= »50″ shift_x= »0″ shift_y= »0″ shift_y_down= »0″ z_index= »0″ medium_width= »0″ mobile_width= »0″ width= »1/2″][vc_custom_heading heading_semantic= »h3″ text_size= »h1″ uncode_shortcode_id= »657702″]Hébergement[/vc_custom_heading][vc_column_text uncode_shortcode_id= »128233″]\n\nVendredi 11 : Hôtel de l’Europe à Saint Jean-de-Maurienne. Coût : 37 €/pers en chambre triple.\nSamedi 12 : Refuge gardé de l’Etendard. Coût : 48€/pers (adhérents FFCAM) en demi-pension. Apporter son drap-sac.\nPrévoir les pique-nique du samedi et du dimanche midi et les vivres de course pour deux jours.\n\n[/vc_column_text][/vc_column][/vc_row][vc_row unlock_row_content= »yes » row_height_percent= »50″ override_padding= »yes » h_padding= »0″ top_padding= »0″ bottom_padding= »0″ overlay_alpha= »50″ equal_height= »yes » gutter_size= »0″ shift_y= »0″][vc_column column_width_percent= »100″ gutter_size= »0″ override_padding= »yes » column_padding= »2″ overlay_alpha= »50″ shift_x= »0″ shift_y= »0″ shift_y_down= »0″ z_index= »0″ medium_width= »0″ mobile_width= »0″ width= »1/1″ uncode_shortcode_id= »355714″][vc_row_inner row_inner_height_percent= »0″ back_color= »color-gyho » overlay_alpha= »50″ gutter_size= »3″ shift_y= »0″ z_index= »0″ uncode_shortcode_id= »197323″ back_color_type= »uncode-palette »][vc_column_inner column_width_percent= »100″ gutter_size= »2″ override_padding= »yes » column_padding= »4″ overlay_alpha= »50″ shift_x= »0″ shift_y= »0″ shift_y_down= »0″ z_index= »0″ medium_width= »0″ mobile_width= »0″ width= »1/1″ uncode_shortcode_id= »199661″][vc_custom_heading heading_semantic= »h3″ text_size= »h1″ uncode_shortcode_id= »173441″]Matériel et équipement requis[/vc_custom_heading][vc_column_text text_lead= »yes » uncode_shortcode_id= »109224″]\n\nKit sécurité DVA-pelle-sonde\,\nCouteaux\,\nCrampons adaptés aux chaussures de ski\,\nVêtements chauds adaptés à la météo.\n\n[/vc_column_text][/vc_column_inner][/vc_row_inner][vc_row_inner row_inner_height_percent= »0″ overlay_alpha= »50″ equal_height= »yes » gutter_size= »0″ shift_y= »0″ z_index= »0″ uncode_shortcode_id= »325209″][vc_column_inner column_width_percent= »100″ gutter_size= »2″ override_padding= »yes » column_padding= »4″ style= »dark » back_image= »9998″ overlay_color= »color-nhtu » overlay_alpha= »90″ shift_x= »0″ shift_y= »0″ shift_y_down= »0″ z_index= »0″ medium_width= »0″ mobile_width= »0″ width= »1/2″ uncode_shortcode_id= »148769″ overlay_color_type= »uncode-palette »][vc_icon icon= »fa fa-star-o » size= »fa-4x » align= »left » title= »A savoir » uncode_shortcode_id= »180360″]Chaque participant s’occupera de son assurance et de louer son matériel si nécessaire.[/vc_icon][/vc_column_inner][vc_column_inner column_width_percent= »100″ gutter_size= »2″ override_padding= »yes » column_padding= »4″ style= »dark » back_color= »color-wayh » overlay_alpha= »50″ shift_x= »0″ shift_y= »0″ shift_y_down= »0″ z_index= »0″ medium_width= »0″ mobile_width= »0″ width= »1/2″ uncode_shortcode_id= »100406″ back_color_type= »uncode-palette »][vc_icon icon= »fa fa-warning3″ icon_color= »accent » size= »fa-4x » align= »left » title= »Important » uncode_shortcode_id= »152432″ icon_color_type= »uncode-palette »]Licence FFCAM obligatoire.[/vc_icon][vc_single_image media= »10228″ media_width_percent= »75″ alignment= »center » uncode_shortcode_id= »175174″][/vc_column_inner][/vc_row_inner][/vc_column][/vc_row][vc_row unlock_row_content= »yes » row_height_percent= »0″ override_padding= »yes » h_padding= »3″ top_padding= »2″ bottom_padding= »0″ overlay_alpha= »50″ gutter_size= »3″ column_width_percent= »100″ shift_y= »0″ z_index= »0″ content_parallax= »0″ uncode_shortcode_id= »187548″][vc_column column_width_percent= »100″ gutter_size= »3″ override_padding= »yes » column_padding= »5″ style= »dark » back_image= »10225″ overlay_color= »color-wayh » overlay_alpha= »90″ radius= »hg » shift_x= »0″ shift_y= »0″ shift_y_down= »0″ z_index= »0″ medium_width= »0″ mobile_width= »0″ width= »1/1″ uncode_shortcode_id= »193339″ overlay_color_type= »uncode-palette »][vc_row_inner row_inner_height_percent= »0″ overlay_alpha= »50″ gutter_size= »2″ shift_y= »0″ z_index= »0″ limit_content= » » uncode_shortcode_id= »209343″][vc_column_inner column_width_percent= »100″ gutter_size= »4″ style= »dark » overlay_alpha= »50″ shift_x= »0″ shift_y= »0″ shift_y_down= »0″ z_index= »0″ medium_width= »0″ mobile_width= »0″ width= »8/12″ uncode_shortcode_id= »169833″][vc_custom_heading uncode_shortcode_id= »130313″]Coût[/vc_custom_heading][/vc_column_inner][vc_column_inner column_width_percent= »100″ position_vertical= »justify » gutter_size= »3″ overlay_alpha= »50″ shift_x= »0″ shift_y= »0″ shift_y_down= »0″ z_index= »0″ medium_width= »0″ mobile_width= »0″ width= »4/12″ uncode_shortcode_id= »138846″][/vc_column_inner][/vc_row_inner][vc_column_text uncode_shortcode_id= »209122″]85€ (hébergement) + 10€ (participation à la formation des encadrants du club)\, soit 95€ à régler sur HelloAsso (lien communiqué par les organisateurs). Prévoir en plus : participation à la location du véhicule (environ 35€ sur la base de 6 participants). Train : à la charge des participants.[/vc_column_text][/vc_column][/vc_row][vc_row unlock_row_content= »yes » row_height_percent= »0″ override_padding= »yes » h_padding= »3″ top_padding= »2″ bottom_padding= »0″ overlay_alpha= »50″ gutter_size= »3″ column_width_percent= »100″ shift_y= »0″ z_index= »0″ content_parallax= »0″ uncode_shortcode_id= »164146″][vc_column column_width_percent= »100″ gutter_size= »3″ override_padding= »yes » column_padding= »5″ style= »dark » back_image= »10156″ overlay_color= »color-wayh » overlay_alpha= »85″ radius= »hg » shift_x= »0″ shift_y= »0″ shift_y_down= »0″ z_index= »0″ medium_width= »0″ mobile_width= »0″ width= »1/1″ uncode_shortcode_id= »142493″ overlay_color_type= »uncode-palette »][vc_row_inner row_inner_height_percent= »0″ overlay_alpha= »50″ gutter_size= »2″ shift_y= »0″ z_index= »0″ limit_content= » » uncode_shortcode_id= »209343″][vc_column_inner column_width_percent= »100″ gutter_size= »4″ style= »dark » overlay_alpha= »50″ shift_x= »0″ shift_y= »0″ shift_y_down= »0″ z_index= »0″ medium_width= »0″ mobile_width= »0″ width= »8/12″ uncode_shortcode_id= »181524″][vc_custom_heading uncode_shortcode_id= »193365″]Niveau technique et physique[/vc_custom_heading][/vc_column_inner][vc_column_inner column_width_percent= »100″ position_vertical= »justify » gutter_size= »3″ overlay_alpha= »50″ shift_x= »0″ shift_y= »0″ shift_y_down= »0″ z_index= »0″ medium_width= »0″ mobile_width= »0″ width= »4/12″ uncode_shortcode_id= »138846″][/vc_column_inner][/vc_row_inner][vc_column_text uncode_shortcode_id= »109799″]Ski de randonnée : niveau 1 ou 2 pour les deux critères. D+ 1000m max. Pré-requis : stage NA1 ou équivalent.[/vc_column_text][/vc_column][/vc_row][vc_row unlock_row_content= »yes » row_height_percent= »0″ override_padding= »yes » h_padding= »3″ top_padding= »2″ bottom_padding= »2″ overlay_alpha= »50″ gutter_size= »3″ column_width_percent= »100″ shift_y= »0″ z_index= »0″ content_parallax= »0″ uncode_shortcode_id= »109582″][vc_column column_width_percent= »100″ gutter_size= »3″ override_padding= »yes » column_padding= »5″ style= »dark » back_color= »color-wvjs » back_image= »10148″ back_position= »center center » overlay_color= »color-wayh » overlay_alpha= »84″ radius= »hg » shift_x= »0″ shift_y= »0″ shift_y_down= »0″ z_index= »0″ medium_width= »0″ mobile_width= »0″ width= »1/1″ uncode_shortcode_id= »784599″ back_color_type= »uncode-palette » overlay_color_type= »uncode-palette »][vc_row_inner row_inner_height_percent= »0″ overlay_alpha= »50″ gutter_size= »2″ shift_y= »0″ z_index= »0″ limit_content= » » uncode_shortcode_id= »209343″][vc_column_inner column_width_percent= »100″ gutter_size= »4″ style= »dark » overlay_alpha= »50″ shift_x= »0″ shift_y= »0″ shift_y_down= »0″ z_index= »0″ medium_width= »0″ mobile_width= »0″ width= »8/12″ uncode_shortcode_id= »181524″][vc_custom_heading uncode_shortcode_id= »159832″]Encadrement[/vc_custom_heading][/vc_column_inner][vc_column_inner column_width_percent= »100″ position_vertical= »justify » gutter_size= »3″ overlay_alpha= »50″ shift_x= »0″ shift_y= »0″ shift_y_down= »0″ z_index= »0″ medium_width= »0″ mobile_width= »0″ width= »4/12″ uncode_shortcode_id= »138846″][/vc_column_inner][/vc_row_inner][vc_column_text uncode_shortcode_id= »181773″]Encadrant : Renaud L et Thierry W en co-encadrement.[/vc_column_text][/vc_column][/vc_row]
URL:https://grimpeglisse.org/sortie-sejour/2025-ski-de-rando-en-etoile-a-partir-du-refuge-de-letendard-garde/
LOCATION:Refuge de l’Etendard\, Saint Jean-de-Maurienne\, France
CATEGORIES:Ski de rando
ATTACH;FMTTYPE=image/jpeg:https://grimpeglisse.org/wp-content/uploads/2025/04/Refuge_de_Etendard_1920px-web.jpg
END:VEVENT
END:VCALENDAR